BEGIN:VCALENDAR
VERSION:2.0
PRODID:-//Henrico HR - ECPv6.15.20//NONSGML v1.0//EN
CALSCALE:GREGORIAN
METHOD:PUBLISH
X-WR-CALNAME:Henrico HR
X-ORIGINAL-URL:https://employees.henrico.gov
X-WR-CALDESC:Events for Henrico HR
REFRESH-INTERVAL;VALUE=DURATION:PT1H
X-Robots-Tag:noindex
X-PUBLISHED-TTL:PT1H
BEGIN:VTIMEZONE
TZID:America/New_York
BEGIN:DAYLIGHT
TZOFFSETFROM:-0500
TZOFFSETTO:-0400
TZNAME:EDT
DTSTART:20230312T070000
END:DAYLIGHT
BEGIN:STANDARD
TZOFFSETFROM:-0400
TZOFFSETTO:-0500
TZNAME:EST
DTSTART:20231105T060000
END:STANDARD
BEGIN:DAYLIGHT
TZOFFSETFROM:-0500
TZOFFSETTO:-0400
TZNAME:EDT
DTSTART:20240310T070000
END:DAYLIGHT
BEGIN:STANDARD
TZOFFSETFROM:-0400
TZOFFSETTO:-0500
TZNAME:EST
DTSTART:20241103T060000
END:STANDARD
BEGIN:DAYLIGHT
TZOFFSETFROM:-0500
TZOFFSETTO:-0400
TZNAME:EDT
DTSTART:20250309T070000
END:DAYLIGHT
BEGIN:STANDARD
TZOFFSETFROM:-0400
TZOFFSETTO:-0500
TZNAME:EST
DTSTART:20251102T060000
END:STANDARD
BEGIN:DAYLIGHT
TZOFFSETFROM:-0500
TZOFFSETTO:-0400
TZNAME:EDT
DTSTART:20260308T070000
END:DAYLIGHT
BEGIN:STANDARD
TZOFFSETFROM:-0400
TZOFFSETTO:-0500
TZNAME:EST
DTSTART:20261101T060000
END:STANDARD
BEGIN:DAYLIGHT
TZOFFSETFROM:-0500
TZOFFSETTO:-0400
TZNAME:EDT
DTSTART:20270314T070000
END:DAYLIGHT
BEGIN:STANDARD
TZOFFSETFROM:-0400
TZOFFSETTO:-0500
TZNAME:EST
DTSTART:20271107T060000
END:STANDARD
END:VTIMEZONE
BEGIN:VTIMEZONE
TZID:UTC
BEGIN:STANDARD
TZOFFSETFROM:+0000
TZOFFSETTO:+0000
TZNAME:UTC
DTSTART:20230101T000000
END:STANDARD
END:VTIMEZONE
BEGIN:VEVENT
DTSTART;TZID=America/New_York:20260416T180000
DTEND;TZID=America/New_York:20260416T193000
DTSTAMP:20260423T144548
CREATED:20260324T182228Z
LAST-MODIFIED:20260324T182228Z
UID:13646-1776362400-1776367800@employees.henrico.gov
SUMMARY:Repair\, Reuse\, Replant Workshop (Volunteer Opportunity)
DESCRIPTION:“Can you stitch up a pocket or sew on a button? If so\, we need you to volunteer!  Recreation and Parks and Keep Henrico Beautiful are teaming up to provide a Repair\, Reuse\, Replant workshop on Thursday\, April 16th from 6-730 at Belmont Recreation Center. Bring clothing items that need a little care and learn how to patch tears\, sew on buttons\, and mend pockets to extend the life of your favorite garments. Also dig into the joy of growing new things by learning about how Keep Henrico Beautiful is propagating common house plants as gifts for teachers. \nIf you are interested in volunteering at this event\, please fill out the form. If you have questions\, please email bro172@henrico.gov.”
URL:https://employees.henrico.gov/event/repair-reuse-replant-workshop-volunteer-opportunity/
LOCATION:Belmont Rec Center\, 1600 Hilliard Road\, Henrico\, VA\, 23228\, United States
END:VEVENT
BEGIN:VEVENT
DTSTART;TZID=America/New_York:20260212T173000
DTEND;TZID=America/New_York:20260212T190000
DTSTAMP:20260423T144548
CREATED:20260205T213528Z
LAST-MODIFIED:20260205T213528Z
UID:13010-1770917400-1770922800@employees.henrico.gov
SUMMARY:Public Information Meeting: Brook Road/Lakeside Avenue Improvements
DESCRIPTION:The Department of Public Works will host a public information meeting on Thursday\, Feb. 12 from 5:30 to 7 p.m. at the Belmont Recreation Center’s Grand Ballroom to discuss two upcoming potential projects in the Lakeside area and receive feedback from the public. \nThe Brook Road Improvements project plans to make changes between Villa Park Drive to Hilliard Road to improve traffic flow and provide pedestrian accommodations. \nThe Lakeside Avenue Bike and Pedestrian Improvements project plans to improve safety and increase pedestrian access and connectivity between Brook Road and Fairway Avenue. \nPlease see the respective project pages for more details on the projects. We hope to see you at the information meeting!
URL:https://employees.henrico.gov/event/public-information-meeting-brook-road-lakeside-avenue-improvements/
LOCATION:Belmont Rec Center\, 1600 Hilliard Road\, Henrico\, VA\, 23228\, United States
ORGANIZER;CN="Public Works":MAILTO:DPW@henrico.gov
END:VEVENT
BEGIN:VEVENT
DTSTART;TZID=America/New_York:20260209T093000
DTEND;TZID=America/New_York:20260209T123000
DTSTAMP:20260423T144548
CREATED:20260115T193501Z
LAST-MODIFIED:20260115T193501Z
UID:12967-1770629400-1770640200@employees.henrico.gov
SUMMARY:Healthy Aging Symposium
DESCRIPTION:Monday\, February 9th\, 9:30am-12:30pm Belmont Recreation Center\, 1600 Hilliard Road \nThis symposium will start with a healthy breakfast\, then offer education on health advocacy\, chronic condition management\, and medication safety. Designed to empower participants with practical skills and knowledge\, the event will offer clear\, actionable guidance you can use to navigate your health and healthcare with confidence. \nRegistration is required. Register with the Advocate for the Aging at 804-501-5065 or agingadvocate@henrico.gov
URL:https://employees.henrico.gov/event/healthy-aging-symposium/
LOCATION:Belmont Rec Center\, 1600 Hilliard Road\, Henrico\, VA\, 23228\, United States
ORGANIZER;CN="Outreach & Engagement":MAILTO:https://henrico.gov/outreach/
END:VEVENT
BEGIN:VEVENT
DTSTART;TZID=America/New_York:20251024T160000
DTEND;TZID=America/New_York:20251024T180000
DTSTAMP:20260423T144548
CREATED:20250930T214703Z
LAST-MODIFIED:20250930T214703Z
UID:12527-1761321600-1761328800@employees.henrico.gov
SUMMARY:Spooky Season Bash
DESCRIPTION:Fri\, Oct 24\, 4-6 p.m. Belmont Recreation Center. \nCelebrate spooky season with your family! Enjoy Sleepy Hollow themed crafts\, activities\, and a showing of the cartoon. \nInformation: den63@henrico.gov
URL:https://employees.henrico.gov/event/spooky-season-bash/
LOCATION:Belmont Rec Center\, 1600 Hilliard Road\, Henrico\, VA\, 23228\, United States
ORGANIZER;CN="Recreation and Parks":MAILTO:henrec@henrico.gov
END:VEVENT
BEGIN:VEVENT
DTSTART;TZID=America/New_York:20250909T170000
DTEND;TZID=America/New_York:20250909T190000
DTSTAMP:20260423T144548
CREATED:20250903T205856Z
LAST-MODIFIED:20250903T205856Z
UID:12340-1757437200-1757444400@employees.henrico.gov
SUMMARY:HenBIKEo Safety Workshop: September
DESCRIPTION: \n\nJoin us at Belmont Recreation Center on Tuesday\, September 9 for a HenBIKEo Safety Workshop with Bike Walk RVA\, H.E.A.R.T.\, and Henrico Police. This family-friendly event is for kids of all ages!\n \nStop by anytime between 5:00 and 7:00 p.m. to:\n\nTest your cycling skills at the Bike Rodeo\nLearn about the upcoming Fall Line trail\, which will pass right by Belmont Recreation Center\nMake a Safety Pizza flag\nGrab a helmet\, a bike light\, and a hi-vis vest\nMeet Stewart the Turtle\nTake the Safety Pledge and receive a reflective HenBIKEo sticker\n\n \nYou can also look forward to HenBIKEo\, a new Recreation and Parks special event\, on September 20 at Crump Park.\n \nInformation: rec-eventsteam@henrico.gov
URL:https://employees.henrico.gov/event/henbikeo-safety-workshop-september/
LOCATION:Belmont Rec Center\, 1600 Hilliard Road\, Henrico\, VA\, 23228\, United States
ORGANIZER;CN="Recreation and Parks":MAILTO:henrec@henrico.gov
END:VEVENT
BEGIN:VEVENT
DTSTART;TZID=America/New_York:20250829T130000
DTEND;TZID=America/New_York:20250829T150000
DTSTAMP:20260423T144548
CREATED:20250802T002617Z
LAST-MODIFIED:20250802T002617Z
UID:12195-1756472400-1756479600@employees.henrico.gov
SUMMARY:Games Galore!
DESCRIPTION:Celebrate by playing games in the game truck\, the game room\, and on the patio!\n \nInformation: cli04@henrico.gov
URL:https://employees.henrico.gov/event/games-galore/
LOCATION:Belmont Rec Center\, 1600 Hilliard Road\, Henrico\, VA\, 23228\, United States
ORGANIZER;CN="Recreation and Parks":MAILTO:henrec@henrico.gov
END:VEVENT
BEGIN:VEVENT
DTSTART;TZID=America/New_York:20250805T173000
DTEND;TZID=America/New_York:20250805T193000
DTSTAMP:20260423T144548
CREATED:20250630T210944Z
LAST-MODIFIED:20250630T210944Z
UID:12065-1754415000-1754422200@employees.henrico.gov
SUMMARY:National Night Out: Belmont 2025
DESCRIPTION:Celebrate with your neighbors in a community-building event that promotes police-community partnerships and neighborhood camaraderie. \nEnjoy games\, refreshments\, mobile library\, photo booth\, DJ\, clown\, and more! \nInformation: cli04@henrico.gov \nFor more information about National Night Out events across Henrico\, head here.
URL:https://employees.henrico.gov/event/national-night-out-belmont-2025/
LOCATION:Belmont Rec Center\, 1600 Hilliard Road\, Henrico\, VA\, 23228\, United States
ORGANIZER;CN="Recreation and Parks":MAILTO:henrec@henrico.gov
END:VEVENT
BEGIN:VEVENT
DTSTART;TZID=America/New_York:20250606T160000
DTEND;TZID=America/New_York:20250606T180000
DTSTAMP:20260423T144548
CREATED:20250530T193508Z
LAST-MODIFIED:20250530T193508Z
UID:11903-1749225600-1749232800@employees.henrico.gov
SUMMARY:Love is Love
DESCRIPTION:Celebrate LGBTQ+ Pride Month with a variety of fun activities. We will have Jonathan the juggler\, the climbing wall\, jump-n-slide combo\, arts & crafts\, games\, and access to the community game room available for everyone to enjoy!\n \nInformation: cli04@henrico.gov
URL:https://employees.henrico.gov/event/love-is-love/
LOCATION:Belmont Rec Center\, 1600 Hilliard Road\, Henrico\, VA\, 23228\, United States
ORGANIZER;CN="Recreation and Parks":MAILTO:henrec@henrico.gov
END:VEVENT
BEGIN:VEVENT
DTSTART;TZID=America/New_York:20250530T130000
DTEND;TZID=America/New_York:20250530T160000
DTSTAMP:20260423T144548
CREATED:20250502T210321Z
LAST-MODIFIED:20250502T210321Z
UID:11829-1748610000-1748620800@employees.henrico.gov
SUMMARY:Cinema at the Center: Belmont
DESCRIPTION:Cinema at the Center \nFri\, May 30\, 1pm\, Belmont Rec Center \nOn the last day of school\, we will have a great time enjoying a movie on the big screen and creating a unique tissue box guitar. Free popcorn while supplies last. \nInformation: cli04@henerico.gov
URL:https://employees.henrico.gov/event/cinema-at-the-center-belmont-3/
LOCATION:Belmont Rec Center\, 1600 Hilliard Road\, Henrico\, VA\, 23228\, United States
ORGANIZER;CN="Recreation and Parks":MAILTO:henrec@henrico.gov
END:VEVENT
BEGIN:VEVENT
DTSTART;TZID=America/New_York:20250331T160000
DTEND;TZID=America/New_York:20250331T180000
DTSTAMP:20260423T144548
CREATED:20250303T180411Z
LAST-MODIFIED:20250303T180411Z
UID:11488-1743436800-1743444000@employees.henrico.gov
SUMMARY:Carnival at Belmont
DESCRIPTION:Belmont Rec Center is hosting a carnival! There will be face painting\, balloons\, a rock wall\, and a bounce house. We will have lots of games outside and the game room will be open inside. \nInformation: belmont@henrico.gov
URL:https://employees.henrico.gov/event/carnival-at-belmont/
LOCATION:Belmont Rec Center\, 1600 Hilliard Road\, Henrico\, VA\, 23228\, United States
ORGANIZER;CN="Recreation and Parks":MAILTO:henrec@henrico.gov
END:VEVENT
BEGIN:VEVENT
DTSTART;TZID=America/New_York:20250218T130000
DTEND;TZID=America/New_York:20250218T150000
DTSTAMP:20260423T144548
CREATED:20250203T115254Z
LAST-MODIFIED:20250203T115254Z
UID:11378-1739883600-1739890800@employees.henrico.gov
SUMMARY:Pluto Day Celebration: Movie & Creative Adventures
DESCRIPTION:It’s a student holiday! \nVisit Belmont Recreation Center to enjoy a movie with friends. Then stay for a space-related project and prize! \nFor movie title and information\, email cli04@henrico.gov
URL:https://employees.henrico.gov/event/pluto-day-celebration-movie-creative-adventures/
LOCATION:Belmont Rec Center\, 1600 Hilliard Road\, Henrico\, VA\, 23228\, United States
ORGANIZER;CN="Recreation and Parks":MAILTO:henrec@henrico.gov
END:VEVENT
BEGIN:VEVENT
DTSTART;TZID=America/New_York:20250103T090000
DTEND;TZID=America/New_York:20250103T160000
DTSTAMP:20260423T144548
CREATED:20241217T162848Z
LAST-MODIFIED:20241217T162848Z
UID:11205-1735894800-1735920000@employees.henrico.gov
SUMMARY:January Cinema at the Center: Belmont
DESCRIPTION:January 3\, 2025 at 9:00 am – 11:00 am\n Event Series (See All)\n\n\n\n\nIt’s the last Friday of Winter Break! Visit Belmont Recreation Center to watch a movie with friends and enjoy some popcorn. Two showings this day! \n9-10:45 a.m. \n2-3:45 p.m. \nFor movie titles\, email Belmont@henrico.gov
URL:https://employees.henrico.gov/event/january-cinema-at-the-center-belmont/
LOCATION:Belmont Rec Center\, 1600 Hilliard Road\, Henrico\, VA\, 23228\, United States
ORGANIZER;CN="Recreation and Parks":MAILTO:henrec@henrico.gov
END:VEVENT
BEGIN:VEVENT
DTSTART;TZID=America/New_York:20241214T090000
DTEND;TZID=America/New_York:20241214T110000
DTSTAMP:20260423T144548
CREATED:20241217T162306Z
LAST-MODIFIED:20241217T162306Z
UID:11199-1734166800-1734174000@employees.henrico.gov
SUMMARY:Belmont Holiday Open House 2024
DESCRIPTION:Celebrate the holiday season with fun activities and refreshments. Learn about our community clubs and partnerships. \nFolks that meet at Belmont will be promoting their groups including Bridge Clubs\, Game Club\, Chess Club\, and Car Club.  \nThere will be an area to make holiday cards.  \nRefreshments include a hot chocolate bar and sweets. \nLakeside Dance Company will be providing demonstrations of classes they offer for children.  \nInformation: belmont@henrico.gov
URL:https://employees.henrico.gov/event/belmont-holiday-open-house-2024/
LOCATION:Belmont Rec Center\, 1600 Hilliard Road\, Henrico\, VA\, 23228\, United States
ORGANIZER;CN="Recreation and Parks":MAILTO:henrec@henrico.gov
END:VEVENT
BEGIN:VEVENT
DTSTART;VALUE=DATE:20241101
DTEND;VALUE=DATE:20241102
DTSTAMP:20260423T144548
CREATED:20241031T211028Z
LAST-MODIFIED:20241031T211028Z
UID:11028-1730419200-1730505599@employees.henrico.gov
SUMMARY:Cinema at the Center: Belmont
DESCRIPTION:Belmont Recreation Center is hosting several “Cinema at the Center” events where visitors can enjoy a family-friendly movie inside the building.\nMovie is free\, but space is limited. Popcorn will also be available\, while supplies last. \nFri\, Sept 13 at 4 p.m.\nThur\, Oct 3 at 2 p.m. (HCPS Holiday)\nFri\, Nov 1 at 9 a.m.\, 2 p.m. & 7 p.m. (HCPS Holiday) \nCall or email for the movie title. We also share the titles in our monthly e-newsletter; sign up today! \nInformation: cli04@henrico.gov or 804-652-1410.
URL:https://employees.henrico.gov/event/cinema-at-the-center-belmont-2/
LOCATION:Belmont Rec Center\, 1600 Hilliard Road\, Henrico\, VA\, 23228\, United States
ORGANIZER;CN="Recreation and Parks":MAILTO:henrec@henrico.gov
END:VEVENT
BEGIN:VEVENT
DTSTART;TZID=UTC:20240913T160000
DTEND;TZID=UTC:20240913T180000
DTSTAMP:20260423T144548
CREATED:20240828T143458Z
LAST-MODIFIED:20240828T143458Z
UID:10584-1726243200-1726250400@employees.henrico.gov
SUMMARY:Cinema at the Center: Belmont
DESCRIPTION:Belmont Recreation Center is hosting several “Cinema at the Center” events where visitors can enjoy a family-friendly movie inside the building.\nMovie is free\, but space is limited. Popcorn will also be available\, while supplies last. \nFri\, Sept 13 at 4 p.m.\nThur\, Oct 3 at 2 p.m. (HCPS Holiday)\nFri\, Nov 1 at 9 a.m.\, 2 p.m. & 7 p.m. (HCPS Holiday) \nCall or email for the movie title. We also share the titles in our monthly e-newsletter; sign up today! \nInformation: cli04@henrico.gov or 804-652-1410.
URL:https://employees.henrico.gov/event/cinema-at-the-center-belmont/
LOCATION:Belmont Rec Center\, 1600 Hilliard Road\, Henrico\, VA\, 23228\, United States
ORGANIZER;CN="Recreation and Parks":MAILTO:henrec@henrico.gov
END:VEVENT
BEGIN:VEVENT
DTSTART;TZID=UTC:20240830T160000
DTEND;TZID=UTC:20240830T180000
DTSTAMP:20260423T144548
CREATED:20240801T020908Z
LAST-MODIFIED:20240801T020908Z
UID:9193-1725033600-1725040800@employees.henrico.gov
SUMMARY:Friday Night Fun
DESCRIPTION:Let’s have some fun! Join us for an evening of activities that include a game truck\, a game room\, and more. \nInformation: cli04@henrico.gov
URL:https://employees.henrico.gov/event/friday-night-fun/
LOCATION:Belmont Rec Center\, 1600 Hilliard Road\, Henrico\, VA\, 23228\, United States
ORGANIZER;CN="Recreation and Parks":MAILTO:henrec@henrico.gov
END:VEVENT
BEGIN:VEVENT
DTSTART;TZID=UTC:20240806T180000
DTEND;TZID=UTC:20240806T203000
DTSTAMP:20260423T144548
CREATED:20240801T015531Z
LAST-MODIFIED:20240801T015531Z
UID:9175-1722967200-1722976200@employees.henrico.gov
SUMMARY:National Night Out: Belmont
DESCRIPTION:Join us for our annual National Night Out collaboration event! Celebrate with your neighbors in a community-building event that promotes police-community partnerships and neighborhood camaraderie. \nEnjoy games\, refreshments\, and music! \nInformation: belmont@henrico.gov
URL:https://employees.henrico.gov/event/national-night-out-belmont-2/
LOCATION:Belmont Rec Center\, 1600 Hilliard Road\, Henrico\, VA\, 23228\, United States
ORGANIZER;CN="Recreation and Parks":MAILTO:henrec@henrico.gov
END:VEVENT
BEGIN:VEVENT
DTSTART;TZID=UTC:20240603T170000
DTEND;TZID=UTC:20240603T190000
DTSTAMP:20260423T144548
CREATED:20240531T191247Z
LAST-MODIFIED:20240531T191247Z
UID:9022-1717434000-1717441200@employees.henrico.gov
SUMMARY:Arrive Alive Henrico
DESCRIPTION:We want to hear from you! \nJoin the Arrive Alive Henrico Team on Monday\, June 3rd from 5:00 to 7:00 pm at the Belmont Recreation Center for an opportunity to share your ideas on ways to make Henrico County roads safer for everyone. The open house meeting will focus on reducing roadway fatalities and serious injuries for all road users in the County. We can’t wait to see you there!
URL:https://employees.henrico.gov/event/arrive-alive-henrico/
LOCATION:Belmont Rec Center\, 1600 Hilliard Road\, Henrico\, VA\, 23228\, United States
ORGANIZER;CN="Public Works":MAILTO:DPW@henrico.gov
END:VEVENT
BEGIN:VEVENT
DTSTART;TZID=UTC:20240531T160000
DTEND;TZID=UTC:20240531T180000
DTSTAMP:20260423T144548
CREATED:20240501T190112Z
LAST-MODIFIED:20240501T190112Z
UID:8984-1717171200-1717178400@employees.henrico.gov
SUMMARY:End of School Celebration – Belmont
DESCRIPTION:Celebrate the end of school with snow cones\, food trucks\, crafts\, and games outside or in the indoor community game room. \nQuestions? Email cli04@henrico.gov 
URL:https://employees.henrico.gov/event/end-of-school-celebration-belmont/
LOCATION:Belmont Rec Center\, 1600 Hilliard Road\, Henrico\, VA\, 23228\, United States
ORGANIZER;CN="Recreation and Parks":MAILTO:henrec@henrico.gov
END:VEVENT
BEGIN:VEVENT
DTSTART;TZID=UTC:20240322T160000
DTEND;TZID=UTC:20240322T180000
DTSTAMP:20260423T144548
CREATED:20240301T162025Z
LAST-MODIFIED:20240301T162025Z
UID:8822-1711123200-1711130400@employees.henrico.gov
SUMMARY:Spring Bash at Belmont
DESCRIPTION:Celebrate spring at Belmont Rec Center! Enjoy a rock wall\, fantasy castle\, crafts\, outdoor games\, and the indoor community game room. \nFor more information\, email cli04@henrico.gov
URL:https://employees.henrico.gov/event/spring-bash-at-belmont/
LOCATION:Belmont Rec Center\, 1600 Hilliard Road\, Henrico\, VA\, 23228\, United States
ORGANIZER;CN="Recreation and Parks":MAILTO:henrec@henrico.gov
END:VEVENT
END:VCALENDAR