BEGIN:VCALENDAR
VERSION:2.0
PRODID:-//Henrico HR - ECPv6.15.20//NONSGML v1.0//EN
CALSCALE:GREGORIAN
METHOD:PUBLISH
X-ORIGINAL-URL:https://employees.henrico.gov
X-WR-CALDESC:Events for Henrico HR
REFRESH-INTERVAL;VALUE=DURATION:PT1H
X-Robots-Tag:noindex
X-PUBLISHED-TTL:PT1H
BEGIN:VTIMEZONE
TZID:America/New_York
BEGIN:DAYLIGHT
TZOFFSETFROM:-0500
TZOFFSETTO:-0400
TZNAME:EDT
DTSTART:20240310T070000
END:DAYLIGHT
BEGIN:STANDARD
TZOFFSETFROM:-0400
TZOFFSETTO:-0500
TZNAME:EST
DTSTART:20241103T060000
END:STANDARD
BEGIN:DAYLIGHT
TZOFFSETFROM:-0500
TZOFFSETTO:-0400
TZNAME:EDT
DTSTART:20250309T070000
END:DAYLIGHT
BEGIN:STANDARD
TZOFFSETFROM:-0400
TZOFFSETTO:-0500
TZNAME:EST
DTSTART:20251102T060000
END:STANDARD
BEGIN:DAYLIGHT
TZOFFSETFROM:-0500
TZOFFSETTO:-0400
TZNAME:EDT
DTSTART:20260308T070000
END:DAYLIGHT
BEGIN:STANDARD
TZOFFSETFROM:-0400
TZOFFSETTO:-0500
TZNAME:EST
DTSTART:20261101T060000
END:STANDARD
END:VTIMEZONE
BEGIN:VEVENT
DTSTART;TZID=America/New_York:20250621T160000
DTEND;TZID=America/New_York:20250621T220000
DTSTAMP:20260420T133819
CREATED:20250530T201123Z
LAST-MODIFIED:20250530T201123Z
UID:11932-1750521600-1750543200@employees.henrico.gov
SUMMARY:Juneteenth 2025
DESCRIPTION:Henrico County’s Juneteenth Celebration\nHenrico County Recreation and Parks is thrilled to invite you to our 2-day Juneteenth Celebration! \nFriday\, June 20: Juneteenth Jamboree\nCommunity Parade &  7v7 Football \nSaturday\, June 21: Juneteenth Event\nVendor Fair\, Kids Zone\, Live Entertainment\, Fireworks \n\nJuneteenth Event\nOn Saturday\, June 21 we will commemorate the 160th anniversary of Juneteenth and the powerful celebration of freedom. \nWe will have a vendor fair featuring 160 local vendors\, a kids zone with thrilling inflatables\, a vibrant community stage showcasing local talent\, and a variety of delicious food. And that’s not all – this year’s musical theme is Go-Go music\, a uniquely regional sound that’s deeply rooted in the African American community\, symbolizing resilience and unity. Originally from Washington\, D.C.\, Go-Go has become a beloved genre across the DMV area\, including right here in Henrico County! \nTo kick things off\, we’ve got the incredible Go-Go legends EU featuring Sugar Bear\, plus the iconic Chuck Brown Band—with Chuck’s Brown’s son Wiley Brown leading the band in tribute to the Godfather of Go-Go. As the grand finale\, we’re thrilled to welcome back Art of Noise\, featuring DJ Lonnie B.\, plus an epic firework show to light up the night. It’s going to be a high-energy\, unforgettable experience! \nThe entire Juneteenth Celebration is FREE and open to the public. Come out\, enjoy the fun\, and celebrate with us! \nFor any questions\, don’t hesitate to give us a call at (804) 652-1421 or email Juneteenth@henrico.gov. See you there! \n\nYou can now get event updates in your inbox! We will send a “Know Before You Go” Guide (before the event) and any necessary alerts (during the event) via email.   \n \n  \n  \n  \n  \n  \n  \n\nKnow Before You Go & Tips:\nIt’s OKAY to bring ✅: \n🐶 Dogs (They must be on a leash. There will be a large crowd and lots of noise.)\n🥤 Outside food/ drink\n🪑 Blankets/ chairs\n💦 Water\n🧴 Sunscreen\n🪲 Bug spray\n👟 Comfortable shoes \nIt’s NOT OKAY to bring ❌: \n🍺 Alcohol\n🎪 Tents/ large umbrellas\n🧳 Large coolers (bigger than 15 quarts)\n🔥 Grills/ tailgating supplies\n🛩️ Drones \n🚶🏼‍♀️ We expect a large crowd. Please carpool\, walk\, or bike if you’re able.\n🚗 We will be directing traffic in and out of the event. Please allow extra time to enter and leave Dorey Park.\n♿ There will be accessible parking spaces available to those with a disabled license plate or placard. Guests will need to walk a short distance to the main event area. Accessible restrooms will be available.\n📷 Lastly\, take a picture before you get there in case you get separated. \n\nHistory of Juneteenth\n \nJuneteenth celebrates enforcement of the Emancipation Proclamation reaching the westernmost Confederate state of Texas. The Proclamation went into effect in 1863\, but this news was purposefully withheld from enslaved people until the arrival of Union troops in Galveston Bay\, Texas on June 19\, 1865. Juneteenth marks our country’s second independence day. \nFirst flown in 2000\, the Juneteenth flag was designed by Ben Haith\, founder of the National Juneteenth Celebration. \nLearn more about Juneteenth’s history and traditions.
URL:https://employees.henrico.gov/event/juneteenth-2025/
LOCATION:Dorey Park\, Dorey Park Dr.\, Henrico\, VA\, 23231\, United States
ORGANIZER;CN="Recreation and Parks":MAILTO:henrec@henrico.gov
END:VEVENT
END:VCALENDAR