BEGIN:VCALENDAR
VERSION:2.0
PRODID:-//Henrico HR - ECPv6.15.20//NONSGML v1.0//EN
CALSCALE:GREGORIAN
METHOD:PUBLISH
X-ORIGINAL-URL:https://employees.henrico.gov
X-WR-CALDESC:Events for Henrico HR
REFRESH-INTERVAL;VALUE=DURATION:PT1H
X-Robots-Tag:noindex
X-PUBLISHED-TTL:PT1H
BEGIN:VTIMEZONE
TZID:America/New_York
BEGIN:DAYLIGHT
TZOFFSETFROM:-0500
TZOFFSETTO:-0400
TZNAME:EDT
DTSTART:20230312T070000
END:DAYLIGHT
BEGIN:STANDARD
TZOFFSETFROM:-0400
TZOFFSETTO:-0500
TZNAME:EST
DTSTART:20231105T060000
END:STANDARD
BEGIN:DAYLIGHT
TZOFFSETFROM:-0500
TZOFFSETTO:-0400
TZNAME:EDT
DTSTART:20240310T070000
END:DAYLIGHT
BEGIN:STANDARD
TZOFFSETFROM:-0400
TZOFFSETTO:-0500
TZNAME:EST
DTSTART:20241103T060000
END:STANDARD
BEGIN:DAYLIGHT
TZOFFSETFROM:-0500
TZOFFSETTO:-0400
TZNAME:EDT
DTSTART:20250309T070000
END:DAYLIGHT
BEGIN:STANDARD
TZOFFSETFROM:-0400
TZOFFSETTO:-0500
TZNAME:EST
DTSTART:20251102T060000
END:STANDARD
END:VTIMEZONE
BEGIN:VEVENT
DTSTART;TZID=America/New_York:20241012T160000
DTEND;TZID=America/New_York:20241012T220000
DTSTAMP:20260421T014142
CREATED:20241007T154436Z
LAST-MODIFIED:20241007T154436Z
UID:10929-1728748800-1728770400@employees.henrico.gov
SUMMARY:Mountainfilm on Tour 2024
DESCRIPTION:Mountainfilm on Tour is coming to Henrico! Each year in Telluride\, Colorado\, Mountainfilm celebrates cultures unique to mountain communities with an international rendezvous of legendary mountaineers\, environmentalists\, filmmakers\, authors\, scientists\, and artists. Don’t miss this opportunity to view incredible outdoor films! \nBefore the show\, enjoy festive outdoor activities to celebrate these great adventures such as canoeing\, knot-tying\, and star gazing.\nOutdoor activities will take place from 4:00 to 6:30 pm. The movie will start promptly at 7:00 pm. \nInformation: bar174@henrico.gov
URL:https://employees.henrico.gov/event/mountainfilm-on-tour-2024/
LOCATION:Meadow Farm Museum at Crump Park\, 3400 Mountain Road\, Glen Allen\, VA\, 23060\, United States
ORGANIZER;CN="Recreation and Parks":MAILTO:henrec@henrico.gov
END:VEVENT
END:VCALENDAR