BEGIN:VCALENDAR
VERSION:2.0
PRODID:-//Henrico HR - ECPv6.15.20//NONSGML v1.0//EN
CALSCALE:GREGORIAN
METHOD:PUBLISH
X-ORIGINAL-URL:https://employees.henrico.gov
X-WR-CALDESC:Events for Henrico HR
REFRESH-INTERVAL;VALUE=DURATION:PT1H
X-Robots-Tag:noindex
X-PUBLISHED-TTL:PT1H
BEGIN:VTIMEZONE
TZID:America/New_York
BEGIN:DAYLIGHT
TZOFFSETFROM:-0500
TZOFFSETTO:-0400
TZNAME:EDT
DTSTART:20250309T070000
END:DAYLIGHT
BEGIN:STANDARD
TZOFFSETFROM:-0400
TZOFFSETTO:-0500
TZNAME:EST
DTSTART:20251102T060000
END:STANDARD
BEGIN:DAYLIGHT
TZOFFSETFROM:-0500
TZOFFSETTO:-0400
TZNAME:EDT
DTSTART:20260308T070000
END:DAYLIGHT
BEGIN:STANDARD
TZOFFSETFROM:-0400
TZOFFSETTO:-0500
TZNAME:EST
DTSTART:20261101T060000
END:STANDARD
BEGIN:DAYLIGHT
TZOFFSETFROM:-0500
TZOFFSETTO:-0400
TZNAME:EDT
DTSTART:20270314T070000
END:DAYLIGHT
BEGIN:STANDARD
TZOFFSETFROM:-0400
TZOFFSETTO:-0500
TZNAME:EST
DTSTART:20271107T060000
END:STANDARD
END:VTIMEZONE
BEGIN:VEVENT
DTSTART;TZID=America/New_York:20260501T190000
DTEND;TZID=America/New_York:20260501T210000
DTSTAMP:20260419T083042
CREATED:20260324T183551Z
LAST-MODIFIED:20260324T183551Z
UID:13660-1777662000-1777669200@employees.henrico.gov
SUMMARY:Movie in the Park: Deep Run
DESCRIPTION:Enjoy an outdoor movie in the park! Bring your lawn chair or blanket and a flashlight. Picnics are also welcome. Movie will begin at 7 pm on the activity field. (On the right by the pond when you enter the park.) \nBecause of licensing\, we can’t specifically state the movie title. However\, here are a few ways you can find it:\n-Contact us at recandparks@henrico.gov or 804-501-PARK.\n-Sign up for our monthly e-newsletter.
URL:https://employees.henrico.gov/event/movie-in-the-park-deep-run/
LOCATION:Deep Run Recreation Center\, 9910 Ridgefield Parkway\, Henrico\, VA\, 23233
ORGANIZER;CN="Recreation and Parks":MAILTO:henrec@henrico.gov
END:VEVENT
END:VCALENDAR