BEGIN:VCALENDAR
VERSION:2.0
PRODID:-//Henrico HR - ECPv6.15.20//NONSGML v1.0//EN
CALSCALE:GREGORIAN
METHOD:PUBLISH
X-ORIGINAL-URL:https://employees.henrico.gov
X-WR-CALDESC:Events for Henrico HR
REFRESH-INTERVAL;VALUE=DURATION:PT1H
X-Robots-Tag:noindex
X-PUBLISHED-TTL:PT1H
BEGIN:VTIMEZONE
TZID:America/New_York
BEGIN:DAYLIGHT
TZOFFSETFROM:-0500
TZOFFSETTO:-0400
TZNAME:EDT
DTSTART:20250309T070000
END:DAYLIGHT
BEGIN:STANDARD
TZOFFSETFROM:-0400
TZOFFSETTO:-0500
TZNAME:EST
DTSTART:20251102T060000
END:STANDARD
BEGIN:DAYLIGHT
TZOFFSETFROM:-0500
TZOFFSETTO:-0400
TZNAME:EDT
DTSTART:20260308T070000
END:DAYLIGHT
BEGIN:STANDARD
TZOFFSETFROM:-0400
TZOFFSETTO:-0500
TZNAME:EST
DTSTART:20261101T060000
END:STANDARD
BEGIN:DAYLIGHT
TZOFFSETFROM:-0500
TZOFFSETTO:-0400
TZNAME:EDT
DTSTART:20270314T070000
END:DAYLIGHT
BEGIN:STANDARD
TZOFFSETFROM:-0400
TZOFFSETTO:-0500
TZNAME:EST
DTSTART:20271107T060000
END:STANDARD
END:VTIMEZONE
BEGIN:VEVENT
DTSTART;TZID=America/New_York:20260411T120000
DTEND;TZID=America/New_York:20260411T150000
DTSTAMP:20260420T062517
CREATED:20260306T171427Z
LAST-MODIFIED:20260306T171517Z
UID:13360-1775908800-1775919600@employees.henrico.gov
SUMMARY:Earth Day 2026
DESCRIPTION:Join us for Henrico’s Annual Earth Day Celebration! \nHenrico’s Earth Day Celebration is hosted by Recreation and Parks\, Keep Henrico Beautiful\, and H.E.A.R.T. There’ll be music\, outdoor activities for all ages\, food truck refreshments available for purchase\, and a fashion show from Moody Middle School. Learn about sustainability initiatives and resources available in Henrico County\, such as energy efficiency\, residential solar\, recycling\, preserving green space\, air quality\, and more! \nInterested in being a vendor at this event? Applications are now open\, apply online today! \nEvent Field (Cricket field at the back of the park): \n\nFashion Show by Moody Middle School\nLocal Vendors\nFood Trucks\nDemo Area\n\nBlue Ridge Cyclery – Electric Bike Demos \n\n\n\nActivity Field (located near the pond): \n\nLive music from Lauren Booth\nKayaking w/ RVA Paddle Sports\nSensory Area (Hosted by Henrico TR Staff and Jacob’s Chance)\nHenrico Cooperative Extension – Craft & Demo\nFood Truck\n\n  \nDon’t miss out on this exciting day of nature\, fun\, and learning at Deep Run Park. 🌎 \nFor more information\, please email us at REC-EventsTeam@henrico.gov.
URL:https://employees.henrico.gov/event/earth-day-2026/
LOCATION:Deep Run Recreation Center\, 9910 Ridgefield Parkway\, Henrico\, VA\, 23233
ORGANIZER;CN="Recreation and Parks":MAILTO:henrec@henrico.gov
END:VEVENT
END:VCALENDAR