BEGIN:VCALENDAR
VERSION:2.0
PRODID:-//Henrico HR - ECPv6.15.20//NONSGML v1.0//EN
CALSCALE:GREGORIAN
METHOD:PUBLISH
X-WR-CALNAME:Henrico HR
X-ORIGINAL-URL:https://employees.henrico.gov
X-WR-CALDESC:Events for Henrico HR
REFRESH-INTERVAL;VALUE=DURATION:PT1H
X-Robots-Tag:noindex
X-PUBLISHED-TTL:PT1H
BEGIN:VTIMEZONE
TZID:America/New_York
BEGIN:DAYLIGHT
TZOFFSETFROM:-0500
TZOFFSETTO:-0400
TZNAME:EDT
DTSTART:20250309T070000
END:DAYLIGHT
BEGIN:STANDARD
TZOFFSETFROM:-0400
TZOFFSETTO:-0500
TZNAME:EST
DTSTART:20251102T060000
END:STANDARD
BEGIN:DAYLIGHT
TZOFFSETFROM:-0500
TZOFFSETTO:-0400
TZNAME:EDT
DTSTART:20260308T070000
END:DAYLIGHT
BEGIN:STANDARD
TZOFFSETFROM:-0400
TZOFFSETTO:-0500
TZNAME:EST
DTSTART:20261101T060000
END:STANDARD
BEGIN:DAYLIGHT
TZOFFSETFROM:-0500
TZOFFSETTO:-0400
TZNAME:EDT
DTSTART:20270314T070000
END:DAYLIGHT
BEGIN:STANDARD
TZOFFSETFROM:-0400
TZOFFSETTO:-0500
TZNAME:EST
DTSTART:20271107T060000
END:STANDARD
END:VTIMEZONE
BEGIN:VEVENT
DTSTART;TZID=America/New_York:20260516T110000
DTEND;TZID=America/New_York:20260516T140000
DTSTAMP:20260423T194428
CREATED:20260324T184501Z
LAST-MODIFIED:20260324T184501Z
UID:13669-1778929200-1778940000@employees.henrico.gov
SUMMARY:Farm Field Day 2026
DESCRIPTION:Meadow Farm presents the 4th annual Farm Field Day. Learn about agricultural practices\, trades\, and crafts of days past. Local craftsmen and businesses will be demonstrating their trades and selling wares. Create crafts\, enjoy food trucks\, and learn about farm practices. \nIf you have any questions\, please email sch107@henrico.gov.
URL:https://employees.henrico.gov/event/farm-field-day-2026/
LOCATION:Meadow Farm Museum at Crump Park\, 3400 Mountain Road\, Glen Allen\, VA\, 23060\, United States
ORGANIZER;CN="Recreation and Parks":MAILTO:henrec@henrico.gov
END:VEVENT
END:VCALENDAR