BEGIN:VCALENDAR
VERSION:2.0
PRODID:-//Henrico HR - ECPv6.15.20//NONSGML v1.0//EN
CALSCALE:GREGORIAN
METHOD:PUBLISH
X-ORIGINAL-URL:https://employees.henrico.gov
X-WR-CALDESC:Events for Henrico HR
REFRESH-INTERVAL;VALUE=DURATION:PT1H
X-Robots-Tag:noindex
X-PUBLISHED-TTL:PT1H
BEGIN:VTIMEZONE
TZID:America/New_York
BEGIN:DAYLIGHT
TZOFFSETFROM:-0500
TZOFFSETTO:-0400
TZNAME:EDT
DTSTART:20240310T070000
END:DAYLIGHT
BEGIN:STANDARD
TZOFFSETFROM:-0400
TZOFFSETTO:-0500
TZNAME:EST
DTSTART:20241103T060000
END:STANDARD
BEGIN:DAYLIGHT
TZOFFSETFROM:-0500
TZOFFSETTO:-0400
TZNAME:EDT
DTSTART:20250309T070000
END:DAYLIGHT
BEGIN:STANDARD
TZOFFSETFROM:-0400
TZOFFSETTO:-0500
TZNAME:EST
DTSTART:20251102T060000
END:STANDARD
BEGIN:DAYLIGHT
TZOFFSETFROM:-0500
TZOFFSETTO:-0400
TZNAME:EDT
DTSTART:20260308T070000
END:DAYLIGHT
BEGIN:STANDARD
TZOFFSETFROM:-0400
TZOFFSETTO:-0500
TZNAME:EST
DTSTART:20261101T060000
END:STANDARD
END:VTIMEZONE
BEGIN:VEVENT
DTSTART;VALUE=DATE:20251004
DTEND;VALUE=DATE:20251005
DTSTAMP:20260423T072226
CREATED:20250930T221031Z
LAST-MODIFIED:20250930T221031Z
UID:12546-1759536000-1759622399@employees.henrico.gov
SUMMARY:Open Enrollment begins
DESCRIPTION:Open Enrollment for 2026 benefits will be from Saturday\, October 4\, 2025\, through Friday\, October 31\, 2025. All changes must be submitted through Employee Direct Access by 4:30 pm. All changes will become effective January 1\, 2026. \nPlease view the Open Enrollment webpage for more information. Changes can be made in the ‘My Benefits’ section of Employee Direct Access.
URL:https://employees.henrico.gov/event/open-enrollment-begins-2/
LOCATION:VA
ORGANIZER;CN="Human Resources":MAILTO:perinfo@henrico.gov
END:VEVENT
BEGIN:VEVENT
DTSTART;TZID=America/New_York:20251008T120000
DTEND;TZID=America/New_York:20251008T133000
DTSTAMP:20260423T072226
CREATED:20250930T220302Z
LAST-MODIFIED:20250930T220302Z
UID:12540-1759924800-1759930200@employees.henrico.gov
SUMMARY:Virtual “Lunch & Learn” on the High-Deductible Health Plan (HDHP) & Health Savings Account (HSA)
DESCRIPTION:Curious about the HDHP or HSAs? Join our virtual Lunch & Learn to get a clear overview of how these options work and whether they might be a good fit for you. \n\nWednesday\, October 8\, 2025 starting at 12:00pm\nVirtual via Webex – Registration is Open NOW!
URL:https://employees.henrico.gov/event/virtual-lunch-learn-on-the-high-deductible-health-plan-hdhp-health-savings-account-hsa/
LOCATION:VA
ORGANIZER;CN="Human Resources":MAILTO:perinfo@henrico.gov
END:VEVENT
BEGIN:VEVENT
DTSTART;TZID=America/New_York:20251009T120000
DTEND;TZID=America/New_York:20251009T170000
DTSTAMP:20260423T072226
CREATED:20250930T220516Z
LAST-MODIFIED:20250930T220737Z
UID:12542-1760011200-1760029200@employees.henrico.gov
SUMMARY:Open Enrollment Information Session
DESCRIPTION:Two (2) Open Enrollment Information Sessions Stop by to meet with representatives from various vendors and the HR Benefits and Fitness & Wellness Divisions! Get your questions answered\, and learn more about your benefits directly from the experts! All employees who attend one of our on-site information sessions will be entered into a raffle drawing! Prizes have been generously donated by our vendors – so don’t miss your chance to win something fun while learning more about your benefits. \nNo sign-up is required. Sessions will be “open house” style. In order to best assist you\, you will need to be able to log in to Employee Direct Access. \nThursday\, October 9\, 2025\, 12:00pm – 5:00pm at the Henrico Training Center \nThursday\, October 23\, 2025\, 12:00pm – 5:00pm at the Eastern Government Center
URL:https://employees.henrico.gov/event/open-enrollment-information-session/
LOCATION:Henrico Training Center\, 7701 E. Parham Rd.\, Henrico\, VA\, 23294\, United States
ORGANIZER;CN="Human Resources":MAILTO:perinfo@henrico.gov
END:VEVENT
BEGIN:VEVENT
DTSTART;TZID=America/New_York:20251023T120000
DTEND;TZID=America/New_York:20251023T170000
DTSTAMP:20260423T072226
CREATED:20250930T220636Z
LAST-MODIFIED:20250930T220806Z
UID:12544-1761220800-1761238800@employees.henrico.gov
SUMMARY:Open Enrollment Information Session
DESCRIPTION:Two (2) Open Enrollment Information Sessions Stop by to meet with representatives from various vendors and the HR Benefits and Fitness & Wellness Divisions! Get your questions answered\, and learn more about your benefits directly from the experts! All employees who attend one of our on-site information sessions will be entered into a raffle drawing! Prizes have been generously donated by our vendors – so don’t miss your chance to win something fun while learning more about your benefits. \nNo sign-up is required. Sessions will be “open house” style. In order to best assist you\, you will need to be able to log in to Employee Direct Access. \nThursday\, October 9\, 2025\, 12:00pm – 5:00pm at the Henrico Training Center \nThursday\, October 23\, 2025\, 12:00pm – 5:00pm at the Eastern Government Center
URL:https://employees.henrico.gov/event/open-enrollment-information-session-2/
LOCATION:Eastern Government Center\, 3820 Nine Mile Rd.\, Henrico\, VA\, 23228\, United States
ORGANIZER;CN="Human Resources":MAILTO:perinfo@henrico.gov
END:VEVENT
BEGIN:VEVENT
DTSTART;TZID=America/New_York:20251031T080000
DTEND;TZID=America/New_York:20251031T163000
DTSTAMP:20260423T072226
CREATED:20250930T220014Z
LAST-MODIFIED:20250930T220014Z
UID:12538-1761897600-1761928200@employees.henrico.gov
SUMMARY:Last Day to Change Your Benefits
DESCRIPTION:Open Enrollment for 2026 benefits will be from Saturday\, October 4\, 2025\, through Friday\, October 31\, 2025. All changes must be submitted through Employee Direct Access by 4:30 pm. All changes will become effective January 1\, 2026. \nTake a look at the Open Enrollment webpage for details. Make your selections in the My Benefits section of Employee Direct Access
URL:https://employees.henrico.gov/event/last-day-to-change-your-benefits/
LOCATION:VA
ORGANIZER;CN="Human Resources":MAILTO:perinfo@henrico.gov
END:VEVENT
END:VCALENDAR