BEGIN:VCALENDAR
VERSION:2.0
PRODID:-//Henrico HR - ECPv6.15.20//NONSGML v1.0//EN
CALSCALE:GREGORIAN
METHOD:PUBLISH
X-WR-CALNAME:Henrico HR
X-ORIGINAL-URL:https://employees.henrico.gov
X-WR-CALDESC:Events for Henrico HR
REFRESH-INTERVAL;VALUE=DURATION:PT1H
X-Robots-Tag:noindex
X-PUBLISHED-TTL:PT1H
BEGIN:VTIMEZONE
TZID:UTC
BEGIN:STANDARD
TZOFFSETFROM:+0000
TZOFFSETTO:+0000
TZNAME:UTC
DTSTART:20230101T000000
END:STANDARD
END:VTIMEZONE
BEGIN:VEVENT
DTSTART;TZID=UTC:20240110T100000
DTEND;TZID=UTC:20240110T120000
DTSTAMP:20260419T195845
CREATED:20240102T091637Z
LAST-MODIFIED:20240102T091637Z
UID:8699-1704880800-1704888000@employees.henrico.gov
SUMMARY:Winter Emergency Preparedness
DESCRIPTION:Henrico’s Advocate for the Aging is hosting a Winter Emergency Preparedness Event. Come learn ways to ensure you\, your home\, and your vehicle are prepared for a safe winter. Presenters will include representatives from the Henrico Office of Emergency Management\, AAA\, The State Corporation Commission’s Bureau of Insurance\, and Dominion Energy. No registration is required. Call 804-501-5065 or email Agingadvocate@henrico.gov with any questions.
URL:https://employees.henrico.gov/event/winter-emergency-preparedness/
LOCATION:Tuckahoe Area Library\, 1901 Starling Drive\, Henrico\, VA\, 23229\, United States
ORGANIZER;CN="Advocate for the Aging":MAILTO:mor141@henrico.gov
END:VEVENT
END:VCALENDAR