BEGIN:VCALENDAR
VERSION:2.0
PRODID:-//Henrico HR - ECPv6.15.20//NONSGML v1.0//EN
CALSCALE:GREGORIAN
METHOD:PUBLISH
X-WR-CALNAME:Henrico HR
X-ORIGINAL-URL:https://employees.henrico.gov
X-WR-CALDESC:Events for Henrico HR
REFRESH-INTERVAL;VALUE=DURATION:PT1H
X-Robots-Tag:noindex
X-PUBLISHED-TTL:PT1H
BEGIN:VTIMEZONE
TZID:UTC
BEGIN:STANDARD
TZOFFSETFROM:+0000
TZOFFSETTO:+0000
TZNAME:UTC
DTSTART:20220101T000000
END:STANDARD
END:VTIMEZONE
BEGIN:VEVENT
DTSTART;VALUE=DATE:20230904
DTEND;VALUE=DATE:20230905
DTSTAMP:20260419T232024
CREATED:20230825T202508Z
LAST-MODIFIED:20230825T202508Z
UID:8250-1693785600-1693871999@employees.henrico.gov
SUMMARY:Labor Day [Closed]
DESCRIPTION:All Henrico County General Government buildings and Courts will be closed in observance of the holiday.
URL:https://employees.henrico.gov/event/labor-day-closed-3/
END:VEVENT
END:VCALENDAR