BEGIN:VCALENDAR
VERSION:2.0
PRODID:-//Henrico HR - ECPv6.15.20//NONSGML v1.0//EN
CALSCALE:GREGORIAN
METHOD:PUBLISH
X-ORIGINAL-URL:https://employees.henrico.gov
X-WR-CALDESC:Events for Henrico HR
REFRESH-INTERVAL;VALUE=DURATION:PT1H
X-Robots-Tag:noindex
X-PUBLISHED-TTL:PT1H
BEGIN:VTIMEZONE
TZID:America/New_York
BEGIN:DAYLIGHT
TZOFFSETFROM:-0500
TZOFFSETTO:-0400
TZNAME:EDT
DTSTART:20250309T070000
END:DAYLIGHT
BEGIN:STANDARD
TZOFFSETFROM:-0400
TZOFFSETTO:-0500
TZNAME:EST
DTSTART:20251102T060000
END:STANDARD
BEGIN:DAYLIGHT
TZOFFSETFROM:-0500
TZOFFSETTO:-0400
TZNAME:EDT
DTSTART:20260308T070000
END:DAYLIGHT
BEGIN:STANDARD
TZOFFSETFROM:-0400
TZOFFSETTO:-0500
TZNAME:EST
DTSTART:20261101T060000
END:STANDARD
BEGIN:DAYLIGHT
TZOFFSETFROM:-0500
TZOFFSETTO:-0400
TZNAME:EDT
DTSTART:20270314T070000
END:DAYLIGHT
BEGIN:STANDARD
TZOFFSETFROM:-0400
TZOFFSETTO:-0500
TZNAME:EST
DTSTART:20271107T060000
END:STANDARD
END:VTIMEZONE
BEGIN:VEVENT
DTSTART;TZID=America/New_York:20260415T100000
DTEND;TZID=America/New_York:20260415T160000
DTSTAMP:20260422T214852
CREATED:20260414T174820Z
LAST-MODIFIED:20260414T174820Z
UID:14038-1776247200-1776268800@employees.henrico.gov
SUMMARY:Blood Drive
DESCRIPTION:Every drop counts. donate blood. \nHermitage ACE Center is partnering with the American Red Cross to host blood drives on Wednesday\, April 15 and Thursday\, April 16 from 10 a.m. to 4 p.m. \nIf you are healthy and able\, please consider donating lifesaving blood. Appointments are strongly encouraged. Schedule online or by calling 1‑800‑RED CROSS. If you have the app\, enter “acecenter” to schedule. \nMaximize your blood donation to help more patients. If you are an eligible type O\, B-\, or A- donor\, consider making a Power Red donation. Red blood cells are the most commonly transfused blood component. \nEvents will be held in the second floor lobby at The ACE Center at Hermitage High School (8350 Hermitage High Blvd. Henrico\, VA 23228) \n*Help hope bloom! Give blood April 13-30 for $15 e-giftcard to merchant of choice. See the website for details!
URL:https://employees.henrico.gov/event/blood-drive/2026-04-15/
LOCATION:Hermitage High School\, 8301 Hungary Spring Rd\, Henrico\, VA\, 23228\, United States
END:VEVENT
END:VCALENDAR