BEGIN:VCALENDAR
VERSION:2.0
PRODID:-//Henrico HR - ECPv6.15.20//NONSGML v1.0//EN
CALSCALE:GREGORIAN
METHOD:PUBLISH
X-ORIGINAL-URL:https://employees.henrico.gov
X-WR-CALDESC:Events for Henrico HR
REFRESH-INTERVAL;VALUE=DURATION:PT1H
X-Robots-Tag:noindex
X-PUBLISHED-TTL:PT1H
BEGIN:VTIMEZONE
TZID:America/New_York
BEGIN:DAYLIGHT
TZOFFSETFROM:-0500
TZOFFSETTO:-0400
TZNAME:EDT
DTSTART:20240310T070000
END:DAYLIGHT
BEGIN:STANDARD
TZOFFSETFROM:-0400
TZOFFSETTO:-0500
TZNAME:EST
DTSTART:20241103T060000
END:STANDARD
BEGIN:DAYLIGHT
TZOFFSETFROM:-0500
TZOFFSETTO:-0400
TZNAME:EDT
DTSTART:20250309T070000
END:DAYLIGHT
BEGIN:STANDARD
TZOFFSETFROM:-0400
TZOFFSETTO:-0500
TZNAME:EST
DTSTART:20251102T060000
END:STANDARD
BEGIN:DAYLIGHT
TZOFFSETFROM:-0500
TZOFFSETTO:-0400
TZNAME:EDT
DTSTART:20260308T070000
END:DAYLIGHT
BEGIN:STANDARD
TZOFFSETFROM:-0400
TZOFFSETTO:-0500
TZNAME:EST
DTSTART:20261101T060000
END:STANDARD
END:VTIMEZONE
BEGIN:VEVENT
DTSTART;TZID=America/New_York:20251102T020000
DTEND;TZID=America/New_York:20251102T023000
DTSTAMP:20260419T200252
CREATED:20251028T195231Z
LAST-MODIFIED:20251028T195231Z
UID:12644-1762048800-1762050600@employees.henrico.gov
SUMMARY:Daylight Saving Time Ends
DESCRIPTION:Clocks fall back an hour! 2:00 am becomes 1:00 am. Enjoy an extra hour!
URL:https://employees.henrico.gov/event/daylight-saving-time-ends-3/
LOCATION:VA
END:VEVENT
BEGIN:VEVENT
DTSTART;TZID=America/New_York:20251102T100000
DTEND;TZID=America/New_York:20251102T120000
DTSTAMP:20260419T200252
CREATED:20250930T211208Z
LAST-MODIFIED:20250930T214034Z
UID:12514-1762077600-1762084800@employees.henrico.gov
SUMMARY:Pop-up Pet Adoption event
DESCRIPTION:The Henrico Police Animal Shelter is hosting an outdoor pop-up pet adoption event (rain or shine). Cats\, dogs\, guinea pigs and rabbits are looking for loving homes! \nCommunity members are invited to meet pets available for adoption and help future animals in need of care. Thanks to the sponsorships from Henrico Humane Society\, Furbish Thrift and the William A. Harrison Jr. Foundation\, any dogs who are already spayed or neutered are ready to go home with their adopters the same day with just a $10 adoption fee. \nPets who have not already been spayed or neutered will have additional fees for their procedures. The spay or neuter will be scheduled upon adoption and will be ready to go home with their families shortly after! \n“Every adoption is a double win for us; a pet goes home with their new family\, and we gain space to support incoming lost and stray animals” said shelter manager Pamela Bridgmon. “Over 100 shelter dogs have found homes as a result of these events in the past 11 months\, thanks to the community and our wonderful volunteers.” \nAdopters must be 18 or older\, but are not required to be Henrico County residents. Adopters will need to have a valid photo ID and pay an adoption fee\, which varies upon the spay/neuter status of the pet. \nAll pets available for adoption can be viewed online on our PetFinder and AdoptaPet pages.
URL:https://employees.henrico.gov/event/pop-up-pet-adoption-event-3/2025-11-02/
LOCATION:Henrico County Animal Shelter\, 10421 Woodman Road\, Henrico\, VA\, United States
ORGANIZER;CN="Henrico County Police Division":MAILTO:police@henrico.gov
END:VEVENT
BEGIN:VEVENT
DTSTART;TZID=America/New_York:20251107T090000
DTEND;TZID=America/New_York:20251107T113000
DTSTAMP:20260419T200252
CREATED:20251028T211233Z
LAST-MODIFIED:20251028T211233Z
UID:12658-1762506000-1762515000@employees.henrico.gov
SUMMARY:Volunteer Opportunity: Taylor Farm Park Community Tree Planting
DESCRIPTION:Henrico Recreation & Parks\, HEART\, and Capital Trees is teaming up to plant trees. No experience is necessary \nVolunteer Duties\nVolunteers will help plant 21 trees at Taylor Farm Park\, increasing Henrico’s tree canopy and enhancing biodiversity in the park. Volunteers will assist with removing burlap casings\, placing trees\, and filling in mulch rings with the help of Capital Trees and Henrico County leaders. No experience necessary; this is a great chance to learn best practices for your own home! \nRequirements\nNo gardening experience necessary\, but ideally volunteers should be ready to: \n\nBend\, squat\, kneel\, and /or stand for extended periods\nLift up to 20lbs\nUse hand tools such as: trowel\, shovel\, etc\nBe comfortable working outside\nPlease bring a refillable water bottle\nClosed-toed\, sturdy shoes\nAll other materials\, including gloves\, will be provided.
URL:https://employees.henrico.gov/event/volunteer-opportunity-taylor-farm-park-community-tree-planting/
LOCATION:Taylor Farm Park\, 200 Whiteside Road\, Sandston\, VA\, 23150\, United States
ORGANIZER;CN="Outreach & Engagement":MAILTO:https://henrico.gov/outreach/
END:VEVENT
BEGIN:VEVENT
DTSTART;TZID=America/New_York:20251107T190000
DTEND;TZID=America/New_York:20251107T210000
DTSTAMP:20260419T200252
CREATED:20251028T211423Z
LAST-MODIFIED:20251028T211423Z
UID:12660-1762542000-1762549200@employees.henrico.gov
SUMMARY:The Jazz Ambassadors
DESCRIPTION:The Jazz Ambassadors present “This We’ll Defend\,” a video-integrated\, patriotic concert experience. Join America’s Big Band as they celebrate military service through music and storytelling. Honor our Greatest Generation\, ‘Welcome Home’ Vietnam Veterans\, and get to know today’s American Soldiers. Be inspired and entertained by the military’s finest musicians as The Jazz Ambassadors share the meaning behind the motto\, “This We’ll Defend.” \nA student jazz ensemble from VCUarts Department of Music will open the concert with a short performance. The 17-piece VCU Jazz Orchestra has a long reputation as one of the finest jazz ensembles in the region. Come hear these amazing\, young artists play swinging classics from Duke Ellington\, Benny Goodman\, and masterpieces by today’s most forward-looking composers! \nFree admission! Doors open at 6 p.m.
URL:https://employees.henrico.gov/event/the-jazz-ambassadors/
LOCATION:Henrico Theater\, 305 E Nine Mile Rd\, Highland Springs\, VA\, 23075\, United States
ORGANIZER;CN="Recreation and Parks":MAILTO:henrec@henrico.gov
END:VEVENT
BEGIN:VEVENT
DTSTART;TZID=America/New_York:20251108T090000
DTEND;TZID=America/New_York:20251108T113000
DTSTAMP:20260419T200252
CREATED:20251028T211709Z
LAST-MODIFIED:20251028T211709Z
UID:12662-1762592400-1762601400@employees.henrico.gov
SUMMARY:Volunteer Opportunity: Springfield Park Community Tree Planting
DESCRIPTION:Join Capital Trees and Henrico County Parks and Recreation for a Volunteer Community Tree Planting! \nVolunteer Duties\nVolunteers will help plant 20 trees at Springfield Park\, increasing Henrico’s tree canopy and enhancing biodiversity in the park. Volunteers will assist with removing burlap casings\, placing trees\, and filling in mulch rings with the help of Capital Trees and Henrico County leaders. No experience necessary; this is a great chance to learn best practices for your own home! \nRequirements\nNo gardening experience necessary\, but ideally volunteers should be ready to: \n\nBend\, squat\, kneel\, and /or stand for extended periods\nLift up to 20lbs\nUse hand tools such as: trowel\, shovel\, etc\nBe comfortable working outside\nPlease bring a refillable water bottle\nClosed-toed\, sturdy shoes\nAll other materials\, including gloves\, will be provided.
URL:https://employees.henrico.gov/event/volunteer-opportunity-springfield-park-community-tree-planting/
LOCATION:Springfield Park\, 4600 Springfield Rd\, Glen Allen\, VA\, 23060\, United States
ORGANIZER;CN="Outreach & Engagement":MAILTO:https://henrico.gov/outreach/
END:VEVENT
BEGIN:VEVENT
DTSTART;TZID=America/New_York:20251108T130000
DTEND;TZID=America/New_York:20251108T160000
DTSTAMP:20260419T200252
CREATED:20251028T211822Z
LAST-MODIFIED:20251028T211822Z
UID:12665-1762606800-1762617600@employees.henrico.gov
SUMMARY:1775: Subject or Citizen?
DESCRIPTION:It’s 1775\, and time to decide: Do you remain subject to the King or forge a new path as an independent citizen? While you ponder your path\, talk with Patrick Henry\, Anne Randolph of Wilton\, soldiers\, and regular citizens to get their perspectives. During the event\, experience live musket firing\, candle making\, and blacksmith demonstrations\, and discover what life was like for militiamen and soldiers. Enjoy music\, games\, and light refreshments of the era. \nInformation: rec-history@henrico.gov
URL:https://employees.henrico.gov/event/1775-subject-or-citizen/
LOCATION:Meadow Farm Museum at Crump Park\, 3400 Mountain Road\, Glen Allen\, VA\, 23060\, United States
ORGANIZER;CN="Recreation and Parks":MAILTO:henrec@henrico.gov
END:VEVENT
BEGIN:VEVENT
DTSTART;TZID=America/New_York:20251110T180000
DTEND;TZID=America/New_York:20251110T200000
DTSTAMP:20260419T200252
CREATED:20251028T211958Z
LAST-MODIFIED:20251028T211958Z
UID:12667-1762797600-1762804800@employees.henrico.gov
SUMMARY:Henrico Police “Vets in Law Enforcement” Information Session
DESCRIPTION:Are you looking to continue your career in service? Then look no further than the Henrico County Police Division! \nHenrico Police is hosting a “Vets in Law Enforcement” informational session on Monday\, Nov. 10\, 2025\, from 6 to 8 p.m. at the Henrico County Training Center (7701 E. Parham Road). \nThis is an opportunity to learn about our agency’s role within the county and how fellow veterans have transitioned from their military service into law enforcement. There will also be on-site resources available if you wish to apply. \nAs of 2025\, the Division has nearly 150 employees (sworn and civilian) who are veterans across the six U.S. Military branches of service. These individuals continue to feel a call to service\, now protecting and serving our community members in Henrico County. \nSome of the benefits of continuing your service by joining Henrico Police include: \n\nPurchase up to four (4) years of active military service through the Virginia Retirement System;\nPost-9/11 GI Bill (Chapter 33) up to two-years (2) during the Basic Police Academy and through Field Training;\nFour Days On/Four Days Off Permanent Schedule;\nPaid Military Leave (if still in the Reserves or National Guard);\nPersonally-Assigned Take Home Car\, Cell Phone\, Equipment\, etc.\n\nWe are currently hiring for our 86th Basic Police Academy (BPA). New police recruits have a starting salary of $64\,038. \nRSVP:\nYou’re encouraged to RSVP to this event by signing up via SignUp Genius. \nADDITIONAL INFORMATION:\nIf you have further questions or concerns\, please contact PoliceRecruiting@henrico.gov or call (804) 501-4801. Further information about our hiring process and our academy can be found via our recruiting website. \n[DOWNLOAD EVENT FLYER]
URL:https://employees.henrico.gov/event/henrico-police-vets-in-law-enforcement-information-session/
LOCATION:Henrico Training Center\, 7701 E. Parham Rd.\, Henrico\, VA\, 23294\, United States
END:VEVENT
BEGIN:VEVENT
DTSTART;VALUE=DATE:20251111
DTEND;VALUE=DATE:20251112
DTSTAMP:20260419T200252
CREATED:20251028T212107Z
LAST-MODIFIED:20251028T212107Z
UID:12669-1762819200-1762905599@employees.henrico.gov
SUMMARY:Veteran's Day [CLOSED]
DESCRIPTION:All Henrico County Courts and general government buildings are closed in observance of the holiday
URL:https://employees.henrico.gov/event/veterans-day-closed-5/
LOCATION:VA
END:VEVENT
BEGIN:VEVENT
DTSTART;TZID=America/New_York:20251115T090000
DTEND;TZID=America/New_York:20251115T140000
DTSTAMP:20260419T200252
CREATED:20251028T212316Z
LAST-MODIFIED:20251028T212316Z
UID:12671-1763197200-1763215200@employees.henrico.gov
SUMMARY:Henrico Sheriff’s Office Hiring Event
DESCRIPTION:Looking for a new career in public safety? The Henrico County Sheriff’s Office is hosting a hiring event on Saturday\, Nov. 15\, 2025\, from 9 a.m. to 2 p.m. at the Henrico County Regional Jail East (17320 New Kent Highway\, Barhamsville\, VA 23011). \nThis is an opportunity to learn more about our agency’s role within the county which includes providing security for our jails and courthouse. \nWe are currently hiring for Deputies (21+) and Jailors (18-20). Deputies have a starting salary of $58\,306 and Jailors at $55\,635. \nWHAT TO BRING:\nIf you plan on attending the hiring event\, please consider bringing the following items with you: \n\nDriver’s License\nSocial Security Card\nBirth Certificate\nHighest Level Education Transcripts\nAny Applicable Documentation \n\nWHAT TO EXPECT:\nWe will be offering on-site interviews at this event and an opportunity to speak with deputies employed by the Henrico County Sheriff’s Office.  \nRSVP:\nYou’re encouraged to RSVP to this event by signing up via Google Forms\, although walk-ins are also welcome. \nADDITIONAL INFORMATION:\nIf you have further questions or concerns\, please contact HCSO_Recruitment@henrico.gov or by calling (804) 501-5558. \n[DOWNLOAD EVENT FLYER]
URL:https://employees.henrico.gov/event/henrico-sheriffs-office-hiring-event/
LOCATION:Henrico County Regional Jail East\, 17320 New Kent Highway\, Barhamsville\, VA\, 23011\, United States
ORGANIZER;CN="Henrico County Sheriff%E2%80%99s Office":MAILTO:HCSO_Recruitment@henrico.gov
END:VEVENT
BEGIN:VEVENT
DTSTART;TZID=America/New_York:20251116T100000
DTEND;TZID=America/New_York:20251116T120000
DTSTAMP:20260419T200252
CREATED:20250930T211208Z
LAST-MODIFIED:20250930T214035Z
UID:12515-1763287200-1763294400@employees.henrico.gov
SUMMARY:Pop-up Pet Adoption event
DESCRIPTION:The Henrico Police Animal Shelter is hosting an outdoor pop-up pet adoption event (rain or shine). Cats\, dogs\, guinea pigs and rabbits are looking for loving homes! \nCommunity members are invited to meet pets available for adoption and help future animals in need of care. Thanks to the sponsorships from Henrico Humane Society\, Furbish Thrift and the William A. Harrison Jr. Foundation\, any dogs who are already spayed or neutered are ready to go home with their adopters the same day with just a $10 adoption fee. \nPets who have not already been spayed or neutered will have additional fees for their procedures. The spay or neuter will be scheduled upon adoption and will be ready to go home with their families shortly after! \n“Every adoption is a double win for us; a pet goes home with their new family\, and we gain space to support incoming lost and stray animals” said shelter manager Pamela Bridgmon. “Over 100 shelter dogs have found homes as a result of these events in the past 11 months\, thanks to the community and our wonderful volunteers.” \nAdopters must be 18 or older\, but are not required to be Henrico County residents. Adopters will need to have a valid photo ID and pay an adoption fee\, which varies upon the spay/neuter status of the pet. \nAll pets available for adoption can be viewed online on our PetFinder and AdoptaPet pages.
URL:https://employees.henrico.gov/event/pop-up-pet-adoption-event-3/2025-11-16/
LOCATION:Henrico County Animal Shelter\, 10421 Woodman Road\, Henrico\, VA\, United States
ORGANIZER;CN="Henrico County Police Division":MAILTO:police@henrico.gov
END:VEVENT
BEGIN:VEVENT
DTSTART;TZID=America/New_York:20251118T173000
DTEND;TZID=America/New_York:20251118T190000
DTSTAMP:20260419T200252
CREATED:20251028T212443Z
LAST-MODIFIED:20251028T212443Z
UID:12674-1763487000-1763492400@employees.henrico.gov
SUMMARY:Public Information Meeting: Darbytown Road/Doran Road Roundabout
DESCRIPTION:Henrico Department of Public Works will hold a public information meeting Tuesday\, Nov. 18 from 5:30 to 7 p.m. about an upcoming pedestrian improvement project. The county plans to realign Doran Road to tie into Darbytown Road\, construct a roundabout at their intersection and construct a sidewalk along both roads. \nThe meeting will be held in the Henricus Room at the Dorey Park Recreation Center.
URL:https://employees.henrico.gov/event/public-information-meeting-darbytown-road-doran-road-roundabout/
LOCATION:Dorey Park\, Dorey Park Dr.\, Henrico\, VA\, 23231\, United States
ORGANIZER;CN="Public Works":MAILTO:DPW@henrico.gov
END:VEVENT
BEGIN:VEVENT
DTSTART;TZID=America/New_York:20251119T090000
DTEND;TZID=America/New_York:20251119T100000
DTSTAMP:20260419T200252
CREATED:20250509T200359Z
LAST-MODIFIED:20250509T200359Z
UID:11860-1763542800-1763546400@employees.henrico.gov
SUMMARY:Hybrid Retirement Plan Overview Seminar
DESCRIPTION:August 13\, 2025 – Henrico Training Center: Rooms 2029/2030 \n9:00 AM -10:00 AM \nHybrid Retirement Plan Overview – What is the VRS Hybrid plan? What’s the difference between the defined benefit and defined contribution components? Join us as we review the hybrid plan and discuss the defined contribution component in more detail. We’ll discuss the mandatory and voluntary contributions as well as the employer match. \n  \nIndividual meetings available after the Seminar. \n  \nTo schedule an appointment or attend a webinar\, click here
URL:https://employees.henrico.gov/event/hybrid-retirement-plan-overview-seminar/2025-11-19/
LOCATION:Henrico Training Center\, 7701 E. Parham Rd.\, Henrico\, VA\, 23294\, United States
ORGANIZER;CN="Human Resources":MAILTO:perinfo@henrico.gov
END:VEVENT
BEGIN:VEVENT
DTSTART;VALUE=DATE:20251127
DTEND;VALUE=DATE:20251128
DTSTAMP:20260419T200252
CREATED:20251028T212741Z
LAST-MODIFIED:20251028T212741Z
UID:12676-1764201600-1764287999@employees.henrico.gov
SUMMARY:Thanksgiving [CLOSED]
DESCRIPTION:All Henrico County Courts and general government buildings will be closed in observance of the holiday. 
URL:https://employees.henrico.gov/event/thanksgiving-closed-5/
LOCATION:VA
END:VEVENT
BEGIN:VEVENT
DTSTART;VALUE=DATE:20251128
DTEND;VALUE=DATE:20251129
DTSTAMP:20260419T200252
CREATED:20251028T212827Z
LAST-MODIFIED:20251028T212827Z
UID:12678-1764288000-1764374399@employees.henrico.gov
SUMMARY:Day After Thanksgiving [CLOSED]
DESCRIPTION:All Henrico County Courts and general government buildings will be closed in observance of the holiday. 
URL:https://employees.henrico.gov/event/day-after-thanksgiving-closed-4/
LOCATION:VA
END:VEVENT
BEGIN:VEVENT
DTSTART;TZID=America/New_York:20251130T100000
DTEND;TZID=America/New_York:20251130T120000
DTSTAMP:20260419T200252
CREATED:20250930T211208Z
LAST-MODIFIED:20250930T214035Z
UID:12516-1764496800-1764504000@employees.henrico.gov
SUMMARY:Pop-up Pet Adoption event
DESCRIPTION:The Henrico Police Animal Shelter is hosting an outdoor pop-up pet adoption event (rain or shine). Cats\, dogs\, guinea pigs and rabbits are looking for loving homes! \nCommunity members are invited to meet pets available for adoption and help future animals in need of care. Thanks to the sponsorships from Henrico Humane Society\, Furbish Thrift and the William A. Harrison Jr. Foundation\, any dogs who are already spayed or neutered are ready to go home with their adopters the same day with just a $10 adoption fee. \nPets who have not already been spayed or neutered will have additional fees for their procedures. The spay or neuter will be scheduled upon adoption and will be ready to go home with their families shortly after! \n“Every adoption is a double win for us; a pet goes home with their new family\, and we gain space to support incoming lost and stray animals” said shelter manager Pamela Bridgmon. “Over 100 shelter dogs have found homes as a result of these events in the past 11 months\, thanks to the community and our wonderful volunteers.” \nAdopters must be 18 or older\, but are not required to be Henrico County residents. Adopters will need to have a valid photo ID and pay an adoption fee\, which varies upon the spay/neuter status of the pet. \nAll pets available for adoption can be viewed online on our PetFinder and AdoptaPet pages.
URL:https://employees.henrico.gov/event/pop-up-pet-adoption-event-3/2025-11-30/
LOCATION:Henrico County Animal Shelter\, 10421 Woodman Road\, Henrico\, VA\, United States
ORGANIZER;CN="Henrico County Police Division":MAILTO:police@henrico.gov
END:VEVENT
END:VCALENDAR