BEGIN:VCALENDAR
VERSION:2.0
PRODID:-//Henrico HR - ECPv6.15.20//NONSGML v1.0//EN
CALSCALE:GREGORIAN
METHOD:PUBLISH
X-WR-CALNAME:Henrico HR
X-ORIGINAL-URL:https://employees.henrico.gov
X-WR-CALDESC:Events for Henrico HR
REFRESH-INTERVAL;VALUE=DURATION:PT1H
X-Robots-Tag:noindex
X-PUBLISHED-TTL:PT1H
BEGIN:VTIMEZONE
TZID:America/New_York
BEGIN:DAYLIGHT
TZOFFSETFROM:-0500
TZOFFSETTO:-0400
TZNAME:EDT
DTSTART:20240310T070000
END:DAYLIGHT
BEGIN:STANDARD
TZOFFSETFROM:-0400
TZOFFSETTO:-0500
TZNAME:EST
DTSTART:20241103T060000
END:STANDARD
BEGIN:DAYLIGHT
TZOFFSETFROM:-0500
TZOFFSETTO:-0400
TZNAME:EDT
DTSTART:20250309T070000
END:DAYLIGHT
BEGIN:STANDARD
TZOFFSETFROM:-0400
TZOFFSETTO:-0500
TZNAME:EST
DTSTART:20251102T060000
END:STANDARD
BEGIN:DAYLIGHT
TZOFFSETFROM:-0500
TZOFFSETTO:-0400
TZNAME:EDT
DTSTART:20260308T070000
END:DAYLIGHT
BEGIN:STANDARD
TZOFFSETFROM:-0400
TZOFFSETTO:-0500
TZNAME:EST
DTSTART:20261101T060000
END:STANDARD
END:VTIMEZONE
BEGIN:VEVENT
DTSTART;TZID=America/New_York:20250203T080000
DTEND;TZID=America/New_York:20250203T170000
DTSTAMP:20260419T140108
CREATED:20250203T115730Z
LAST-MODIFIED:20250203T115730Z
UID:11384-1738569600-1738602000@employees.henrico.gov
SUMMARY:Last Day for ‘Spread the Love’
DESCRIPTION:The Henrico County Advocate for the Aging’s Office is pleased to announce the Fifth Annual Valentine’s Day “Spread the Love” Event. Spread the love this Valentine’s Day by creating Valentine’s Day cards for older adults living in a nursing home or assisted living facility. For instructions and additional information\, please click the link above. \n 
URL:https://employees.henrico.gov/event/last-day-for-spread-the-love/
LOCATION:VA
ORGANIZER;CN="Advocate for the Aging":MAILTO:mor141@henrico.gov
END:VEVENT
BEGIN:VEVENT
DTSTART;TZID=America/New_York:20250204T170000
DTEND;TZID=America/New_York:20250204T190000
DTSTAMP:20260419T140108
CREATED:20250203T114546Z
LAST-MODIFIED:20250203T114546Z
UID:11374-1738688400-1738695600@employees.henrico.gov
SUMMARY:Arrive Alive Public Engagement Meeting
DESCRIPTION:Join the Arrive Alive Henrico Team on February 4\, 2025\, from 5:00 pm to 7:00 pm at Libbie Mill Library for an opportunity to share your ideas on ways to make Henrico County roads safer for everyone. The meeting will focus on reducing roadway fatalities and serious injuries for all road users in the County.
URL:https://employees.henrico.gov/event/arrive-alive-public-engagement-meeting/
LOCATION:Libbie Mill Library\, 2100 Libbie Lake E Street\, Richmond\, VA\, 23230\, United States
ORGANIZER;CN="Public Works":MAILTO:DPW@henrico.gov
END:VEVENT
BEGIN:VEVENT
DTSTART;VALUE=DATE:20250207
DTEND;VALUE=DATE:20250208
DTSTAMP:20260419T140108
CREATED:20250203T115604Z
LAST-MODIFIED:20250203T115604Z
UID:11382-1738886400-1738972799@employees.henrico.gov
SUMMARY:National Wear Red Day
DESCRIPTION:National Wear Red Day is a day in February when many people wear red to show their support for the awareness of heart disease.
URL:https://employees.henrico.gov/event/national-wear-red-day-4/
LOCATION:VA
END:VEVENT
BEGIN:VEVENT
DTSTART;VALUE=DATE:20250217
DTEND;VALUE=DATE:20250218
DTSTAMP:20260419T140108
CREATED:20250114T182412Z
LAST-MODIFIED:20250114T182412Z
UID:11291-1739750400-1739836799@employees.henrico.gov
SUMMARY:Presidents' Day
DESCRIPTION:All Henrico County general government building and courts are closed in observance of the holiday
URL:https://employees.henrico.gov/event/presidents-day/
LOCATION:VA
END:VEVENT
BEGIN:VEVENT
DTSTART;VALUE=DATE:20250217
DTEND;VALUE=DATE:20250218
DTSTAMP:20260419T140108
CREATED:20250203T115046Z
LAST-MODIFIED:20250203T115046Z
UID:11376-1739750400-1739836799@employees.henrico.gov
SUMMARY:Presidents' Day [CLOSED]
DESCRIPTION:All County courts and general government offices will be closed in observance of the holiday
URL:https://employees.henrico.gov/event/presidents-day-closed-4/
LOCATION:VA
END:VEVENT
BEGIN:VEVENT
DTSTART;TZID=America/New_York:20250218T130000
DTEND;TZID=America/New_York:20250218T150000
DTSTAMP:20260419T140108
CREATED:20250203T115254Z
LAST-MODIFIED:20250203T115254Z
UID:11378-1739883600-1739890800@employees.henrico.gov
SUMMARY:Pluto Day Celebration: Movie & Creative Adventures
DESCRIPTION:It’s a student holiday! \nVisit Belmont Recreation Center to enjoy a movie with friends. Then stay for a space-related project and prize! \nFor movie title and information\, email cli04@henrico.gov
URL:https://employees.henrico.gov/event/pluto-day-celebration-movie-creative-adventures/
LOCATION:Belmont Rec Center\, 1600 Hilliard Road\, Henrico\, VA\, 23228\, United States
ORGANIZER;CN="Recreation and Parks":MAILTO:henrec@henrico.gov
END:VEVENT
BEGIN:VEVENT
DTSTART;TZID=America/New_York:20250218T140000
DTEND;TZID=America/New_York:20250218T160000
DTSTAMP:20260419T140108
CREATED:20250203T115417Z
LAST-MODIFIED:20250203T115417Z
UID:11380-1739887200-1739894400@employees.henrico.gov
SUMMARY:Cinema at the Center: Dorey
DESCRIPTION:It’s a student holiday! \nVisit Dorey Recreation Center to watch a movie and enjoy some popcorn. Bring a blanket or sleeping bag to enjoy the movie. \nFor movie title\, email Easternhenrico@henrico.gov
URL:https://employees.henrico.gov/event/cinema-at-the-center-dorey/
LOCATION:Dorey Park\, Dorey Park Dr.\, Henrico\, VA\, 23231\, United States
ORGANIZER;CN="Recreation and Parks":MAILTO:henrec@henrico.gov
END:VEVENT
BEGIN:VEVENT
DTSTART;TZID=America/New_York:20250222T090000
DTEND;TZID=America/New_York:20250222T120000
DTSTAMP:20260419T140108
CREATED:20250210T194411Z
LAST-MODIFIED:20250210T194411Z
UID:11401-1740214800-1740225600@employees.henrico.gov
SUMMARY:February Rabies Clinic
DESCRIPTION:The Henrico County Police Animal Protection Unit will hold its Rabies Clinic on February 22\, 2025\, from 9 a.m. to noon at the Western Government Complex (4301 E. Parham Road). \nRabies vaccinations are $20 each\, cash only! Cats must be in carriers. \nRegistration and payment are done first inside the Administration building at the Cashier’s office. You will then proceed to veterinarian on the first level of the parking deck adjacent to the Administration Building. \nHenrico County dog licenses will also be available. The lifetime license fee is $10. The license is for the life of the dog and is valid as long as the dog’s owner resides in the County and the dog’s rabies vaccination is kept current. The license is void if the dog does not receive a rabies vaccination within 30 days of the expiration of the dog’s current rabies vaccination. \nContact the Henrico Police Animal Shelter at 804-727-8801 (open Monday-Saturday\, 10 a.m. until 4:30 p.m.) with any further questions.
URL:https://employees.henrico.gov/event/february-rabies-clinic/
LOCATION:Administration Annex
ORGANIZER;CN="Henrico County Police Division":MAILTO:police@henrico.gov
END:VEVENT
BEGIN:VEVENT
DTSTART;TZID=America/New_York:20250222T100000
DTEND;TZID=America/New_York:20250222T160000
DTSTAMP:20260419T140108
CREATED:20250210T194539Z
LAST-MODIFIED:20250210T194539Z
UID:11403-1740218400-1740240000@employees.henrico.gov
SUMMARY:Henrico Humane Society Pet Expo
DESCRIPTION:Mark your calendar for the 24th Annual Pet Expo\, which will be held on Saturday\, February 22\, 2025 from 10 a.m.- p.m. at the Richmond Raceway Complex. \nPet Expo is a unique indoor event where attendees can bring their pets to enjoy a day of fun and excitement with the entire family! Vendors and exhibitors will be on hand offering a variety of goods and services\, including fun activities for your pet. \nHenrico County is a proud sponsor of this annual event\, and you will see representatives from Public Libraries\, Recreation and Parks\, the H.E.A.R.T. initiative\, and the Henrico Police Animal Shelter. You can even adopt a pet from the Henrico Humane Society or Henrico Police Animal Shelter at the Pet Expo! \nTickets: \n\n$8 online for adults ($10 at the door)\n$5 for kids ages 6-12 (online and at the door)\nChildren under 6 and pets are free!\n\nAll proceeds benefit the Henrico Humane Society! For more information\, visit: https://www.henricohumane.org/pet-expo
URL:https://employees.henrico.gov/event/henrico-humane-society-pet-expo/
LOCATION:Richmond Raceway\, 600 East Laburnum Avenue\, Richmond\, VA\, 23222\, United States
END:VEVENT
BEGIN:VEVENT
DTSTART;VALUE=DATE:20250228
DTEND;VALUE=DATE:20250301
DTSTAMP:20260419T140108
CREATED:20250221T180030Z
LAST-MODIFIED:20250221T180030Z
UID:11426-1740700800-1740787199@employees.henrico.gov
SUMMARY:Ramadan Begins
DESCRIPTION:February 28—March 29 (sundown to sundown) \nRamadan is an Islamic holiday marked by fasting\, praise\, prayer\, and devotion to Islam.
URL:https://employees.henrico.gov/event/ramadan-begins-2/
LOCATION:VA
END:VEVENT
END:VCALENDAR