BEGIN:VCALENDAR
VERSION:2.0
PRODID:-//Henrico HR - ECPv6.15.20//NONSGML v1.0//EN
CALSCALE:GREGORIAN
METHOD:PUBLISH
X-WR-CALNAME:Henrico HR
X-ORIGINAL-URL:https://employees.henrico.gov
X-WR-CALDESC:Events for Henrico HR
REFRESH-INTERVAL;VALUE=DURATION:PT1H
X-Robots-Tag:noindex
X-PUBLISHED-TTL:PT1H
BEGIN:VTIMEZONE
TZID:UTC
BEGIN:STANDARD
TZOFFSETFROM:+0000
TZOFFSETTO:+0000
TZNAME:UTC
DTSTART:20220101T000000
END:STANDARD
END:VTIMEZONE
BEGIN:VEVENT
DTSTART;TZID=UTC:20230824T113000
DTEND;TZID=UTC:20230824T123000
DTSTAMP:20260422T121547
CREATED:20230728T201419Z
LAST-MODIFIED:20230728T201456Z
UID:8212-1692876600-1692880200@employees.henrico.gov
SUMMARY:Mastering Meal Planning
DESCRIPTION:The Human Resources’ Fitness & Wellness Division has teamed up with Bon Secours Outpatient Nutrition to provide nutrition education programming to County employees in person and virtually.  \nVisit the Fitness & Wellness SharePoint site for a complete list of upcoming sessions.  \nYou can attend in person or virtually and register by emailing Fitness@henrico.gov.
URL:https://employees.henrico.gov/event/mastering-meal-planning/
LOCATION:Henrico Training Center\, 7701 E. Parham Rd.\, Henrico\, VA\, 23294\, United States
END:VEVENT
BEGIN:VEVENT
DTSTART;TZID=UTC:20230819T090000
DTEND;TZID=UTC:20230819T120000
DTSTAMP:20260422T121547
CREATED:20230728T201229Z
LAST-MODIFIED:20230728T201229Z
UID:8210-1692435600-1692446400@employees.henrico.gov
SUMMARY:Rabies Clinic
DESCRIPTION:Rabies vaccination is $15\, cash only! \nRegistration and payment are done first inside the Administration building at\nthe Cashiers office. You will then proceed to veterinarian on the first level of\nthe parking deck adjacent to the Administration Building. \nHenrico County dog licenses will be available. The lifetime license\nfee is $10. The license is for the life of the dog and is valid as long\nas the dog’s owner resides in the County and the dog’s rabies vaccination is kept current. The license is void if the dog does not receive a rabies vaccination within 30 days of the expiration of the\ndog’s current rabies vaccination. \nContact the Animal Shelter\n804-727-8801 with any questions.\nMonday-Saturday 10:00 am until 4:30 pm
URL:https://employees.henrico.gov/event/rabies-clinic/
LOCATION:Administration Annex
END:VEVENT
BEGIN:VEVENT
DTSTART;VALUE=DATE:20230817
DTEND;VALUE=DATE:20230818
DTSTAMP:20260422T121547
CREATED:20230728T201033Z
LAST-MODIFIED:20230728T201033Z
UID:8208-1692230400-1692316799@employees.henrico.gov
SUMMARY:South Asian Heritage Month concludes
DESCRIPTION:South Asian Heritage Month is held each year from July 18 to August 17 to honor\, highlight\, and appreciate South Asian culture and history\, as well as to better understand the rich cultural legacy of South Asia.
URL:https://employees.henrico.gov/event/south-asian-heritage-month-concludes/
LOCATION:VA
END:VEVENT
BEGIN:VEVENT
DTSTART;TZID=UTC:20230812T180000
DTEND;TZID=UTC:20230812T220000
DTSTAMP:20260422T121547
CREATED:20230728T200939Z
LAST-MODIFIED:20230728T200939Z
UID:8206-1691863200-1691877600@employees.henrico.gov
SUMMARY:Second Saturdays Concert Series 2023
DESCRIPTION:Join the Dorey Park Farmer’s Market for an evening concert series featuring some of the best local bands in RVA! \nFree Admission! Food & Drink sales onsite. Bring a chair or blanket \nGates open at 6pm. Music begins at 7pm. \nJune 10: Music by Full Moon Fever\nJuly 8: Music by The Mighty Good Times\nAug 12: Music by Jacob Paul Allen\nSept 9: Music by Legacy Band
URL:https://employees.henrico.gov/event/second-saturdays-concert-series-2023/
LOCATION:Dorey Park\, Dorey Park Dr.\, Henrico\, VA\, 23231\, United States
ORGANIZER;CN="Recreation and Parks":MAILTO:henrec@henrico.gov
END:VEVENT
BEGIN:VEVENT
DTSTART;TZID=UTC:20230809T180000
DTEND;TZID=UTC:20230809T200000
DTSTAMP:20260422T121547
CREATED:20230728T200546Z
LAST-MODIFIED:20230728T200546Z
UID:8200-1691604000-1691611200@employees.henrico.gov
SUMMARY:Foster Parent Orientation
DESCRIPTION:We are in need of families for all ages\, especially:\n\nYouth age 12 and up.\nLarge sibling groups (2 children and up) – you must have room to accommodate the children.\nFamilies that can care for young children (0-4) who cannot attend daycare for one reason or another\, including\, but not limited to:\nNewborns (too young/not eligible for daycare);\nMedical needs (child needs to be stabilized before he or she will be able to go to daycare);\nChild has experienced trauma thus transitions/multiple caretakers need to be minimized.
URL:https://employees.henrico.gov/event/foster-parent-orientation/
LOCATION:Fairfield Library\, 1401 N. Laburnum Ave.\, Henrico\, VA\, 23223\, United States
ORGANIZER;CN="Department of Social Services":MAILTO:dssweb@henrico.gov
END:VEVENT
BEGIN:VEVENT
DTSTART;TZID=UTC:20230809T130000
DTEND;TZID=UTC:20230809T140000
DTSTAMP:20260422T121547
CREATED:20230728T200802Z
LAST-MODIFIED:20230728T200802Z
UID:8203-1691586000-1691589600@employees.henrico.gov
SUMMARY:Navigating Services for Senior Adults in Henrico County
DESCRIPTION:Meet the Advocate for the Aging for Henrico County and learn about resources available to Seniors\, their families\, and caregivers in our community. Call 804-501-5065 or email Agingadvocate@henrico.gov with questions about the event. 
URL:https://employees.henrico.gov/event/navigating-services-for-senior-adults-in-henrico-county/
LOCATION:Tuckahoe Area Library\, 1901 Starling Drive\, Henrico\, VA\, 23229\, United States
ORGANIZER;CN="Advocate for the Aging":MAILTO:mor141@henrico.gov
END:VEVENT
BEGIN:VEVENT
DTSTART;VALUE=DATE:20230809
DTEND;VALUE=DATE:20230810
DTSTAMP:20260422T121547
CREATED:20230728T200242Z
LAST-MODIFIED:20230728T200242Z
UID:8198-1691539200-1691625599@employees.henrico.gov
SUMMARY:International Day of Indigenous People
DESCRIPTION:The International Day of the Indigenous Peoples is observed on the 9th of August to protect the rights\, raise awareness\, and recognizes the achievements and contributions of the world’s indigenous population.
URL:https://employees.henrico.gov/event/international-day-of-indigenous-people/
LOCATION:VA
END:VEVENT
BEGIN:VEVENT
DTSTART;TZID=UTC:20230804T200000
DTEND;TZID=UTC:20230804T220000
DTSTAMP:20260422T121547
CREATED:20230728T200154Z
LAST-MODIFIED:20230728T200154Z
UID:8195-1691179200-1691186400@employees.henrico.gov
SUMMARY:Movies in the Park: Jurassic Park
DESCRIPTION:Join us in the park for an outdoor showing of “The Lost World: Jurassic Park.” The movie will begin at sunset\, approximately 8:15 p.m. \nBring your lawn chair or blanket and a flashlight. Concessions will be available for purchase.
URL:https://employees.henrico.gov/event/movies-in-the-park-jurassic-park/
LOCATION:Three Lakes Park & Nature Center\, 400 Sausiluta Drive\, Henrico\, VA\, 23227\, United States
ORGANIZER;CN="Recreation and Parks":MAILTO:henrec@henrico.gov
END:VEVENT
BEGIN:VEVENT
DTSTART;TZID=UTC:20230801T180000
DTEND;TZID=UTC:20230801T210000
DTSTAMP:20260422T121547
CREATED:20230728T195922Z
LAST-MODIFIED:20230728T195922Z
UID:8193-1690912800-1690923600@employees.henrico.gov
SUMMARY:National Night Out: EHRC
DESCRIPTION:Join us for our second annual National Night Out in partnership with Speaking Spirit Ministries. This community-building event promotes police partnerships and community organizations as we unite for a great evening of fun! Activities include inflatables\, train rides\, sports in the gym\, dancing\, vendors\, and more! Information: cun04@henrico.gov
URL:https://employees.henrico.gov/event/national-night-out-ehrc-2/
LOCATION:Eastern Henrico Rec Center\, 1440 N. Laburnum Ave.\, Henrico\, VA
ORGANIZER;CN="Recreation and Parks":MAILTO:henrec@henrico.gov
END:VEVENT
BEGIN:VEVENT
DTSTART;VALUE=DATE:20230726
DTEND;VALUE=DATE:20230727
DTSTAMP:20260422T121547
CREATED:20230630T175254Z
LAST-MODIFIED:20230630T175254Z
UID:8100-1690329600-1690415999@employees.henrico.gov
SUMMARY:Disability Independence Day
DESCRIPTION:According to Disability Independence Day- Seramount.com\, Disability Independence Day\, July 26 celebrates the anniversary of the 1990 signing of the Americans with Disabilities Act.  \n 
URL:https://employees.henrico.gov/event/disability-independence-day/
LOCATION:VA
END:VEVENT
END:VCALENDAR