BEGIN:VCALENDAR
VERSION:2.0
PRODID:-//Henrico HR - ECPv6.15.20//NONSGML v1.0//EN
CALSCALE:GREGORIAN
METHOD:PUBLISH
X-WR-CALNAME:Henrico HR
X-ORIGINAL-URL:https://employees.henrico.gov
X-WR-CALDESC:Events for Henrico HR
REFRESH-INTERVAL;VALUE=DURATION:PT1H
X-Robots-Tag:noindex
X-PUBLISHED-TTL:PT1H
BEGIN:VTIMEZONE
TZID:America/New_York
BEGIN:DAYLIGHT
TZOFFSETFROM:-0500
TZOFFSETTO:-0400
TZNAME:EDT
DTSTART:20250309T070000
END:DAYLIGHT
BEGIN:STANDARD
TZOFFSETFROM:-0400
TZOFFSETTO:-0500
TZNAME:EST
DTSTART:20251102T060000
END:STANDARD
BEGIN:DAYLIGHT
TZOFFSETFROM:-0500
TZOFFSETTO:-0400
TZNAME:EDT
DTSTART:20260308T070000
END:DAYLIGHT
BEGIN:STANDARD
TZOFFSETFROM:-0400
TZOFFSETTO:-0500
TZNAME:EST
DTSTART:20261101T060000
END:STANDARD
BEGIN:DAYLIGHT
TZOFFSETFROM:-0500
TZOFFSETTO:-0400
TZNAME:EDT
DTSTART:20270314T070000
END:DAYLIGHT
BEGIN:STANDARD
TZOFFSETFROM:-0400
TZOFFSETTO:-0500
TZNAME:EST
DTSTART:20271107T060000
END:STANDARD
END:VTIMEZONE
BEGIN:VEVENT
DTSTART;TZID=America/New_York:20260415T100000
DTEND;TZID=America/New_York:20260415T160000
DTSTAMP:20260422T133938
CREATED:20260414T174820Z
LAST-MODIFIED:20260414T174820Z
UID:14038-1776247200-1776268800@employees.henrico.gov
SUMMARY:Blood Drive
DESCRIPTION:Every drop counts. donate blood. \nHermitage ACE Center is partnering with the American Red Cross to host blood drives on Wednesday\, April 15 and Thursday\, April 16 from 10 a.m. to 4 p.m. \nIf you are healthy and able\, please consider donating lifesaving blood. Appointments are strongly encouraged. Schedule online or by calling 1‑800‑RED CROSS. If you have the app\, enter “acecenter” to schedule. \nMaximize your blood donation to help more patients. If you are an eligible type O\, B-\, or A- donor\, consider making a Power Red donation. Red blood cells are the most commonly transfused blood component. \nEvents will be held in the second floor lobby at The ACE Center at Hermitage High School (8350 Hermitage High Blvd. Henrico\, VA 23228) \n*Help hope bloom! Give blood April 13-30 for $15 e-giftcard to merchant of choice. See the website for details!
URL:https://employees.henrico.gov/event/blood-drive/2026-04-15/
LOCATION:Hermitage High School\, 8301 Hungary Spring Rd\, Henrico\, VA\, 23228\, United States
END:VEVENT
BEGIN:VEVENT
DTSTART;TZID=America/New_York:20260415T120000
DTEND;TZID=America/New_York:20260415T130000
DTSTAMP:20260422T133938
CREATED:20260402T161603Z
LAST-MODIFIED:20260402T161603Z
UID:13829-1776254400-1776258000@employees.henrico.gov
SUMMARY:Social Security Lunch and Learn
DESCRIPTION:Join Henrico Federal Credit Union and Price Perkins on Wednesday\, April 15 for a Lunch & Learn about Social Security. \nThe event will cover:  \n\nUnderstanding the Basics of Social Security\nConsiderations for Deciding When to File\nStrategies for Receiving Benefits\nFinancial Planning Basics\n\nThe Lunch and Learn will be held at noon Wednesday\, April 15 at the Henrico Training Center\, 7701 E. Parham Road\, Room 2030. \nRSVP to Litsa Kotsis at litsa@priceperkins.com or 804-592-2378 by Monday\, April 13. \nBrokerage and Advisory services provided by Price Perkins through Prospera Financial Services\, Inc.\, member FINRA/SIPC and not by Henrico Federal Credit Union. The customer will be dealing solely with Price Perkins through Prospera Financial Services with respect to brokerage and advisory services. Accounts carried by Wells Fargo Clearing Service\, LLC\, member FINRA/SIPC. Securities are not NCUSIF Insured/Not NCUA or Credit Union Guaranteed/May Lose Value.
URL:https://employees.henrico.gov/event/social-security-lunch-and-learn/
LOCATION:Henrico Training Center\, 7701 E. Parham Rd.\, Henrico\, VA\, 23294\, United States
END:VEVENT
BEGIN:VEVENT
DTSTART;TZID=America/New_York:20260415T130000
DTEND;TZID=America/New_York:20260415T170000
DTSTAMP:20260422T133938
CREATED:20260324T181228Z
LAST-MODIFIED:20260324T181228Z
UID:13638-1776258000-1776272400@employees.henrico.gov
SUMMARY:Senior Law Clinic
DESCRIPTION:Henrico Outreach & Engagement is partnering with The Span Center and the Greater Richmond Bar Foundation to offer free legal services for eligible older adults 55+\, persons with disabilities (over age 18)\, caregivers and those receiving hospice care. Participants will receive a simple Will\, Durable Power of Attorney and an Advance Medical Directive. \nMonthly Income Eligibility Requirements: Single Person Household: $5\,216 or less; Two Person Household: $7\,050 or less \nRegistration is required to receive an appointment. For more information\, call Candi May with The Span Center at (804) 871-0225. \nLaw Day is sponsored by the Greater Richmond Bar Foundation and The Span Center. All documents will be prepared and executed on-site. Legal services are provided by volunteer attorneys. A current Government photo ID is required.
URL:https://employees.henrico.gov/event/senior-law-clinic/
LOCATION:Sandston Branch Library\, 23 E. Williamsburg Road\, Henrico\, VA\, 23150\, United States
ORGANIZER;CN="Outreach & Engagement":MAILTO:https://henrico.gov/outreach/
END:VEVENT
BEGIN:VEVENT
DTSTART;TZID=America/New_York:20260415T190000
DTEND;TZID=America/New_York:20260415T200000
DTSTAMP:20260422T133938
CREATED:20260324T181403Z
LAST-MODIFIED:20260324T181403Z
UID:13641-1776279600-1776283200@employees.henrico.gov
SUMMARY:On the Air Radio Players present My Favorite Wife
DESCRIPTION:On the Air Radio Players present an hour of fun with My Favorite Wife\, directed by Jo Rake. Come and join us for this hour of a live radio show including live music and sound effects! \nWed\, Apr 15 & Thur\, Apr 16. 7 p.m. each night.\nHenrico Theatre. Free. \nInformation: per22@henrico.gov or 501-5859
URL:https://employees.henrico.gov/event/on-the-air-radio-players-present-my-favorite-wife/2026-04-15/
LOCATION:Henrico Theater\, 305 E Nine Mile Rd\, Highland Springs\, VA\, 23075\, United States
ORGANIZER;CN="Recreation and Parks":MAILTO:henrec@henrico.gov
END:VEVENT
END:VCALENDAR