BEGIN:VCALENDAR
VERSION:2.0
PRODID:-//Henrico HR - ECPv6.15.20//NONSGML v1.0//EN
CALSCALE:GREGORIAN
METHOD:PUBLISH
X-ORIGINAL-URL:https://employees.henrico.gov
X-WR-CALDESC:Events for Henrico HR
REFRESH-INTERVAL;VALUE=DURATION:PT1H
X-Robots-Tag:noindex
X-PUBLISHED-TTL:PT1H
BEGIN:VTIMEZONE
TZID:America/New_York
BEGIN:DAYLIGHT
TZOFFSETFROM:-0500
TZOFFSETTO:-0400
TZNAME:EDT
DTSTART:20240310T070000
END:DAYLIGHT
BEGIN:STANDARD
TZOFFSETFROM:-0400
TZOFFSETTO:-0500
TZNAME:EST
DTSTART:20241103T060000
END:STANDARD
BEGIN:DAYLIGHT
TZOFFSETFROM:-0500
TZOFFSETTO:-0400
TZNAME:EDT
DTSTART:20250309T070000
END:DAYLIGHT
BEGIN:STANDARD
TZOFFSETFROM:-0400
TZOFFSETTO:-0500
TZNAME:EST
DTSTART:20251102T060000
END:STANDARD
BEGIN:DAYLIGHT
TZOFFSETFROM:-0500
TZOFFSETTO:-0400
TZNAME:EDT
DTSTART:20260308T070000
END:DAYLIGHT
BEGIN:STANDARD
TZOFFSETFROM:-0400
TZOFFSETTO:-0500
TZNAME:EST
DTSTART:20261101T060000
END:STANDARD
END:VTIMEZONE
BEGIN:VEVENT
DTSTART;TZID=America/New_York:20251213T090000
DTEND;TZID=America/New_York:20251213T130000
DTSTAMP:20260425T164948
CREATED:20251209T221403Z
LAST-MODIFIED:20251209T221403Z
UID:12778-1765616400-1765630800@employees.henrico.gov
SUMMARY:Henrico Police Hiring Event
DESCRIPTION:Shopping for a new career this holiday season? Then look no further than the Henrico County Police Division! \nHenrico Police is hosting a hiring event on Saturday\, Dec. 13\, 2025\, from 9 a.m. to 1 p.m. at the Henrico County Training Center (7701 E. Parham Road). \nThis is an opportunity to learn about our agency’s role within the county which includes providing innovative and collaborative police services for a safe and thriving Henrico. \nWe are currently hiring for our 87th Basic Police Academy (BPA) and 17th Modified Police Academy. New police recruits have a starting salary of $64\,038\, Virginia DCJS and Out-of-State certified police officers may be eligible for a higher salary depending upon experience. \nWHAT TO BRING:\nIf you plan on attending the job fair\, please bring two of the following items with you: \n\nDriver’s License\nPassport\nSocial Security Card\nBirth Certificate\n\nYou’re also encouraged to bring your highest level of education transcripts and any other applicable document with you. \nWHAT TO EXPECT:\nWe will be offering on-site preliminary interviews at this event! There will also be an opportunity to take part in the Physical Agility Test\, which is a requirement in our hiring process. Candidates are encouraged to wear workout-appropriate attire if they plan to take part in the physical agility test at the event. \nRSVP:\nYou’re encouraged to RSVP to this event by signing up via SignUp Genius. \nHOW TO ATTEND:\nThere will be a message board at the complex entry point. Park in the available parking spaces within the complex. Please scan the QR code upon arrival. \nADDITIONAL INFORMATION:\nIf you have further questions or concerns\, please contact PoliceRecruiting@henrico.gov or call (804) 501-4801. If you haven’t applied yet for this position\, please make sure you submit your application through the Henrico County jobs website. Further information about our hiring process and our academy can be found via our recruiting website. \n[DOWNLOAD EVENT FLYER]
URL:https://employees.henrico.gov/event/henrico-police-hiring-event-2/
LOCATION:Henrico Training Center\, 7701 E. Parham Rd.\, Henrico\, VA\, 23294\, United States
ORGANIZER;CN="Henrico County Police Division":MAILTO:police@henrico.gov
END:VEVENT
BEGIN:VEVENT
DTSTART;TZID=America/New_York:20251213T100000
DTEND;TZID=America/New_York:20251213T130000
DTSTAMP:20260425T164948
CREATED:20251209T221531Z
LAST-MODIFIED:20251209T221531Z
UID:12780-1765620000-1765630800@employees.henrico.gov
SUMMARY:Santa Paws 2025
DESCRIPTION:Santa Paws returns for another year at Short Pump Park. A photographer will capture free photos of your dog with Santa Claus. Photos will be available after the event. \nShop a hand-selected array of vendors selling items for you and your pup including: \n\nPet Pleasers\, Inc\nPawsome Pet Portraiture\nMutt N Munchkins\nHenrico Humane Society\nDog Krazy\nDog Training Elite\n\nThere’s also a Candy Cane Hunt\, which will be provided by Macaroni Kid Richmond. \nWe will have complimentary s’more kits on the main field. Concessions will be available for purchase from Early Bird Cafe. \nFor more information\, please contact rec-eventsteam@henrico.gov.
URL:https://employees.henrico.gov/event/santa-paws-2025/
LOCATION:Short Pump Park\, 3329 Pump Road\, Henrico\, VA\, 23233\, United States
ORGANIZER;CN="Recreation and Parks":MAILTO:henrec@henrico.gov
END:VEVENT
BEGIN:VEVENT
DTSTART;TZID=America/New_York:20251213T100000
DTEND;TZID=America/New_York:20251213T163000
DTSTAMP:20260425T164948
CREATED:20251209T221639Z
LAST-MODIFIED:20251209T221639Z
UID:12782-1765620000-1765643400@employees.henrico.gov
SUMMARY:Fixin’ to go Home for the Holidays pet adoption event
DESCRIPTION:The Henrico County Police Animal Shelter will hold an adoption event on Saturday\, Dec. 13 from 10 a.m. to 4:30 p.m. at 10421 Woodman Road. \nHelp pets find homes so that they can spend the holidays – and a lifetime – with their new families\, thanks to the generous sponsorship from community partners! The William A. Harrison Jr. Foundation and Furbish Thrift are sponsoring the spay and neuter surgeries for the animals\, and the Henrico Humane Society is sponsoring the adoption fees of any pets adopted during the event. \nSussex County and Petersburg City animal services are partnering with the shelter for this event and will bring adoptable pets from their shelters as well. \nA quick reminder to potential adopters: Pets are not presents; they are long-term commitments to care for\, and one that is so worth it! Please talk to shelter staff for any recommendations on finding a veterinarian\, groomer or other animal care services. \nBeing a resident of Henrico is not required to adopt a pet from the shelter! People interested in pet adoption must be 18 or older and will need to provide a valid photo ID. Bringing a collar and leash or pet carrier are suggested but not required for adopters’ convenience of bringing a new pet home. \nYou can see all the pets available for adoption ahead of time through our PetFinder and AdoptAPet pages. \nFor more information\, contact the Henrico Police Animal Shelter by calling (804) 727-8807\, or by visiting the shelter website.
URL:https://employees.henrico.gov/event/fixin-to-go-home-for-the-holidays-pet-adoption-event/
LOCATION:Henrico County Animal Shelter\, 10421 Woodman Road\, Henrico\, VA\, United States
ORGANIZER;CN="Henrico County Police Division":MAILTO:police@henrico.gov
END:VEVENT
END:VCALENDAR