BEGIN:VCALENDAR
VERSION:2.0
PRODID:-//Henrico HR - ECPv6.15.20//NONSGML v1.0//EN
CALSCALE:GREGORIAN
METHOD:PUBLISH
X-ORIGINAL-URL:https://employees.henrico.gov
X-WR-CALDESC:Events for Henrico HR
REFRESH-INTERVAL;VALUE=DURATION:PT1H
X-Robots-Tag:noindex
X-PUBLISHED-TTL:PT1H
BEGIN:VTIMEZONE
TZID:America/New_York
BEGIN:DAYLIGHT
TZOFFSETFROM:-0500
TZOFFSETTO:-0400
TZNAME:EDT
DTSTART:20240310T070000
END:DAYLIGHT
BEGIN:STANDARD
TZOFFSETFROM:-0400
TZOFFSETTO:-0500
TZNAME:EST
DTSTART:20241103T060000
END:STANDARD
BEGIN:DAYLIGHT
TZOFFSETFROM:-0500
TZOFFSETTO:-0400
TZNAME:EDT
DTSTART:20250309T070000
END:DAYLIGHT
BEGIN:STANDARD
TZOFFSETFROM:-0400
TZOFFSETTO:-0500
TZNAME:EST
DTSTART:20251102T060000
END:STANDARD
BEGIN:DAYLIGHT
TZOFFSETFROM:-0500
TZOFFSETTO:-0400
TZNAME:EDT
DTSTART:20260308T070000
END:DAYLIGHT
BEGIN:STANDARD
TZOFFSETFROM:-0400
TZOFFSETTO:-0500
TZNAME:EST
DTSTART:20261101T060000
END:STANDARD
END:VTIMEZONE
BEGIN:VEVENT
DTSTART;VALUE=DATE:20250330
DTEND;VALUE=DATE:20250331
DTSTAMP:20260423T032850
CREATED:20250303T180131Z
LAST-MODIFIED:20250303T180131Z
UID:11484-1743292800-1743379199@employees.henrico.gov
SUMMARY:Eid al-Fitr
DESCRIPTION:Eid al-Fitr\, the Muslim celebration officially marks the end of Ramadan. The exact timing is based on the sighting of the moon. Eid al-Fitr officially begins at the start of the Islamic month of Shawwal\, the tenth month of the Islamic (Hijri) calendar. This year\, Ramadan is expected to end on evening of Sun\, 30 Mar 2025 or Mon\, 31 Mar 2025\, depending on the sighting of the moon. \nHealthy adult Muslims fast during the month of Ramadan from dawn until dusk. This includes abstaining from drinking\, eating\, immoral acts and anger. Other acts of worship such as prayer\, reading the Quran and charity are also encouraged during the holy month.
URL:https://employees.henrico.gov/event/eid-al-fitr-2/
LOCATION:VA
END:VEVENT
END:VCALENDAR