BEGIN:VCALENDAR
VERSION:2.0
PRODID:-//Henrico HR - ECPv6.15.20//NONSGML v1.0//EN
CALSCALE:GREGORIAN
METHOD:PUBLISH
X-WR-CALNAME:Henrico HR
X-ORIGINAL-URL:https://employees.henrico.gov
X-WR-CALDESC:Events for Henrico HR
REFRESH-INTERVAL;VALUE=DURATION:PT1H
X-Robots-Tag:noindex
X-PUBLISHED-TTL:PT1H
BEGIN:VTIMEZONE
TZID:America/New_York
BEGIN:DAYLIGHT
TZOFFSETFROM:-0500
TZOFFSETTO:-0400
TZNAME:EDT
DTSTART:20240310T070000
END:DAYLIGHT
BEGIN:STANDARD
TZOFFSETFROM:-0400
TZOFFSETTO:-0500
TZNAME:EST
DTSTART:20241103T060000
END:STANDARD
BEGIN:DAYLIGHT
TZOFFSETFROM:-0500
TZOFFSETTO:-0400
TZNAME:EDT
DTSTART:20250309T070000
END:DAYLIGHT
BEGIN:STANDARD
TZOFFSETFROM:-0400
TZOFFSETTO:-0500
TZNAME:EST
DTSTART:20251102T060000
END:STANDARD
BEGIN:DAYLIGHT
TZOFFSETFROM:-0500
TZOFFSETTO:-0400
TZNAME:EDT
DTSTART:20260308T070000
END:DAYLIGHT
BEGIN:STANDARD
TZOFFSETFROM:-0400
TZOFFSETTO:-0500
TZNAME:EST
DTSTART:20261101T060000
END:STANDARD
END:VTIMEZONE
BEGIN:VEVENT
DTSTART;TZID=America/New_York:20250322T060000
DTEND;TZID=America/New_York:20250322T210000
DTSTAMP:20260422T202902
CREATED:20250320T163240Z
LAST-MODIFIED:20250320T163240Z
UID:11582-1742623200-1742677200@employees.henrico.gov
SUMMARY:Training Center Closed
DESCRIPTION:The Training Center will close from 6 a.m. to 9 p.m. Saturday\, March 22\, while its floors are stripped and waxed. No one will be permitted to access the building during this time.
URL:https://employees.henrico.gov/event/training-center-closed/
LOCATION:Henrico Training Center\, 7701 E. Parham Rd.\, Henrico\, VA\, 23294\, United States
END:VEVENT
BEGIN:VEVENT
DTSTART;TZID=America/New_York:20250322T080000
DTEND;TZID=America/New_York:20250322T170000
DTSTAMP:20260422T202902
CREATED:20250303T182945Z
LAST-MODIFIED:20250303T182945Z
UID:11499-1742630400-1742662800@employees.henrico.gov
SUMMARY:Teen Summit 2025
DESCRIPTION:Teen Summit RVA 2023 was the first of its kind regional high school leadership summit designed to connect students\, in a safe space\, to speak out and have their voices heard. Teen Summit RVA is a day designed to amplify youth voices against violence and address wellness. Students exchange ideas on leadership pathways for positive change in the Richmond region. The event welcomes hundreds of diverse high school students who engage in interactive experiences addressing various topics students selected mixed with the arts and entertainment – from gun violence and safety\, drugs and mental health\, culture\, and equity in their school district and community. These experiences range from thought provoking conversations led by experts in their field to art and spoken word as a means of expression. In addition\, teens explore careers and summer job opportunities in the InspireYouth@Work Career and Resource Fair.  Teen Summit RVA gives teens insights into how to work in their community to improve their wellbeing and to challenge social norms. \nTeen Summit RVA is presented by the counties of Chesterfield\, Henrico and Hanover\, and the City of Richmond with support from each locality’s school division. The event has been sponsored by The Community Foundation for a Greater Richmond and Virginia Career Works with support from nearly 20 contributing partners who provided financial and in-kind support.
URL:https://employees.henrico.gov/event/teen-summit-2025/
LOCATION:Greater Richmond Convention Center\, 403 N 3rd Street\, Richmond\, VA\, 23219\, United States
ORGANIZER;CN="Outreach & Engagement":MAILTO:https://henrico.gov/outreach/
END:VEVENT
END:VCALENDAR