BEGIN:VCALENDAR
VERSION:2.0
PRODID:-//Henrico HR - ECPv6.15.20//NONSGML v1.0//EN
CALSCALE:GREGORIAN
METHOD:PUBLISH
X-WR-CALNAME:Henrico HR
X-ORIGINAL-URL:https://employees.henrico.gov
X-WR-CALDESC:Events for Henrico HR
REFRESH-INTERVAL;VALUE=DURATION:PT1H
X-Robots-Tag:noindex
X-PUBLISHED-TTL:PT1H
BEGIN:VTIMEZONE
TZID:America/New_York
BEGIN:DAYLIGHT
TZOFFSETFROM:-0500
TZOFFSETTO:-0400
TZNAME:EDT
DTSTART:20240310T070000
END:DAYLIGHT
BEGIN:STANDARD
TZOFFSETFROM:-0400
TZOFFSETTO:-0500
TZNAME:EST
DTSTART:20241103T060000
END:STANDARD
BEGIN:DAYLIGHT
TZOFFSETFROM:-0500
TZOFFSETTO:-0400
TZNAME:EDT
DTSTART:20250309T070000
END:DAYLIGHT
BEGIN:STANDARD
TZOFFSETFROM:-0400
TZOFFSETTO:-0500
TZNAME:EST
DTSTART:20251102T060000
END:STANDARD
BEGIN:DAYLIGHT
TZOFFSETFROM:-0500
TZOFFSETTO:-0400
TZNAME:EDT
DTSTART:20260308T070000
END:DAYLIGHT
BEGIN:STANDARD
TZOFFSETFROM:-0400
TZOFFSETTO:-0500
TZNAME:EST
DTSTART:20261101T060000
END:STANDARD
END:VTIMEZONE
BEGIN:VEVENT
DTSTART;TZID=America/New_York:20250318T180000
DTEND;TZID=America/New_York:20250318T190000
DTSTAMP:20260423T014253
CREATED:20250303T174047Z
LAST-MODIFIED:20250303T174047Z
UID:11469-1742320800-1742324400@employees.henrico.gov
SUMMARY:Difficult Conversations: A Caregiver Speaker Series
DESCRIPTION:Join us at Fairfield Library at 1401 N. Laburnum Ave on Tuesday March 4th\, March 11th\, and March 18th as we tackle challenging topics for caregivers supporting older adults in Henrico. We will end the series with a Senior & Caregiver Expo on Tuesday\, March 25th at Eastern Henrico Recreation Center to learn about resources to assist older adults in our community. \nTuesday\, March 4th\, 6 pm-7 pm Dementia 101: A representative from the Alzheimer’s Association will share information about the stages of dementia\, resources for caregivers\, and take questions from community members. \nTuesday\, March 11th\, 6 pm-7 pm Supporting Your Loved One as Their Abilities Change: Lisa Isbell with Senior Care Authority of Central Virginia will share resources for individuals with varying levels of need and tips for recognizing changes in need and having difficult conversations about care. \nTuesday\, March 18th\, 6 pm-7 pm End of Life: A Representative from Crater Community Hospice will help caregivers understand the difference between hospice and palliative care\, and provide techniques for conversing about end-of-life with loved ones. \nContact the Advocate for the Aging with any questions or to learn more about the event at agingadvocate@henrico.gov or 804-501-5065. \n  \nDifficult Conversation Series
URL:https://employees.henrico.gov/event/difficult-conversations-a-caregiver-speaker-series/2025-03-18/
LOCATION:Fairfield Library\, 1401 N. Laburnum Ave.\, Henrico\, VA\, 23223\, United States
ORGANIZER;CN="Advocate for the Aging":MAILTO:mor141@henrico.gov
END:VEVENT
END:VCALENDAR