BEGIN:VCALENDAR
VERSION:2.0
PRODID:-//Henrico HR - ECPv6.15.20//NONSGML v1.0//EN
CALSCALE:GREGORIAN
METHOD:PUBLISH
X-WR-CALNAME:Henrico HR
X-ORIGINAL-URL:https://employees.henrico.gov
X-WR-CALDESC:Events for Henrico HR
REFRESH-INTERVAL;VALUE=DURATION:PT1H
X-Robots-Tag:noindex
X-PUBLISHED-TTL:PT1H
BEGIN:VTIMEZONE
TZID:UTC
BEGIN:STANDARD
TZOFFSETFROM:+0000
TZOFFSETTO:+0000
TZNAME:UTC
DTSTART:20230101T000000
END:STANDARD
END:VTIMEZONE
BEGIN:VEVENT
DTSTART;VALUE=DATE:20240801
DTEND;VALUE=DATE:20240802
DTSTAMP:20260424T035308
CREATED:20240801T015250Z
LAST-MODIFIED:20240801T015250Z
UID:9171-1722470400-1722556799@employees.henrico.gov
SUMMARY:South Asian Heritage Month Continues
DESCRIPTION:South Asian Heritage Month is held annually from July 18 to August 17 to honor\, recognize\, and appreciate South Asian history and culture\, as well as to comprehend the rich cultural legacy of countries and South Asia. It is a month-long celebration of the existence and legacy of individuals with origins in the South Asian countries of Afghanistan\, India\, Pakistan\, Bangladesh\, Sri Lanka\, Nepal\, Bhutan\, and the Maldives. Continue reading below for more on South Asia’s fascinating past.
URL:https://employees.henrico.gov/event/south-asian-heritage-month-continues/
LOCATION:VA
END:VEVENT
END:VCALENDAR