BEGIN:VCALENDAR
VERSION:2.0
PRODID:-//Henrico HR - ECPv6.15.20//NONSGML v1.0//EN
CALSCALE:GREGORIAN
METHOD:PUBLISH
X-ORIGINAL-URL:https://employees.henrico.gov
X-WR-CALDESC:Events for Henrico HR
REFRESH-INTERVAL;VALUE=DURATION:PT1H
X-Robots-Tag:noindex
X-PUBLISHED-TTL:PT1H
BEGIN:VTIMEZONE
TZID:America/New_York
BEGIN:DAYLIGHT
TZOFFSETFROM:-0500
TZOFFSETTO:-0400
TZNAME:EDT
DTSTART:20250309T070000
END:DAYLIGHT
BEGIN:STANDARD
TZOFFSETFROM:-0400
TZOFFSETTO:-0500
TZNAME:EST
DTSTART:20251102T060000
END:STANDARD
BEGIN:DAYLIGHT
TZOFFSETFROM:-0500
TZOFFSETTO:-0400
TZNAME:EDT
DTSTART:20260308T070000
END:DAYLIGHT
BEGIN:STANDARD
TZOFFSETFROM:-0400
TZOFFSETTO:-0500
TZNAME:EST
DTSTART:20261101T060000
END:STANDARD
BEGIN:DAYLIGHT
TZOFFSETFROM:-0500
TZOFFSETTO:-0400
TZNAME:EDT
DTSTART:20270314T070000
END:DAYLIGHT
BEGIN:STANDARD
TZOFFSETFROM:-0400
TZOFFSETTO:-0500
TZNAME:EST
DTSTART:20271107T060000
END:STANDARD
END:VTIMEZONE
BEGIN:VEVENT
DTSTART;TZID=America/New_York:20260502T090000
DTEND;TZID=America/New_York:20260502T130000
DTSTAMP:20260424T120023
CREATED:20260324T190755Z
LAST-MODIFIED:20260324T190755Z
UID:13681-1777712400-1777726800@employees.henrico.gov
SUMMARY:Woodland Cemetery Public Work Day (Volunteer Opportunity)
DESCRIPTION:Woodland Cemetery is always looking for volunteers to help with their restoration efforts that range from mowing and weed eating to clearing brush and\ncleaning headstones. They highly recommend wearing appropriate clothing including long pants and closed toe shoes. Woodland volunteers are required to submit a hold harmless agreement.\nFor more information\, email chapel@ymcarichmond.org
URL:https://employees.henrico.gov/event/woodland-cemetery-public-work-day-volunteer-opportunity/2026-05-02/
LOCATION:Woodland Cemetery\, 2300 Magnolia Rd\, Richmond\, VA\, 23223\, United States
ORGANIZER;CN="Outreach & Engagement":MAILTO:https://henrico.gov/outreach/
END:VEVENT
END:VCALENDAR